BEGIN:VCALENDAR
VERSION:2.0
PRODID:-//InStaff und Jobs GmbH
BEGIN:VEVENT
UID:40ace2be8948792a3fa38dd75336c72f@instaff.jobs
DTSTAMP:20260425T120802Z
LOCATION:Messe München\, Messegelände\, 81823 München
DTSTART;TZID=Europe/Brussels:20200126T070000Z
DTEND;TZID=Europe/Brussels:20200129T160000Z
SUMMARY:ISPO MUNICH 2020
DESCRIPTION:https://www.google.com/maps/search/?api=1&query=Messe+München%2C+Messegelände%2C+81823+München
END:VEVENT
END:VCALENDAR