BEGIN:VCALENDAR
VERSION:2.0
PRODID:-//InStaff und Jobs GmbH
BEGIN:VEVENT
UID:5e929934e15965a583ae480cc9436a09@instaff.jobs
DTSTAMP:20260425T120803Z
LOCATION:MOC\, Lilienthalallee 40\, 80939 München
DTSTART;TZID=Europe/Brussels:20200324T070000Z
DTEND;TZID=Europe/Brussels:20200324T160000Z
SUMMARY:MMM-Messe 2020
DESCRIPTION:https://www.google.com/maps/search/?api=1&query=MOC%2C+Lilienthalallee+40%2C+80939+München
END:VEVENT
END:VCALENDAR