BEGIN:VCALENDAR
VERSION:2.0
PRODID:-//InStaff und Jobs GmbH
BEGIN:VEVENT
UID:53a29c79ca118b8ea7856a137eaeb010@instaff.jobs
DTSTAMP:20260425T120750Z
LOCATION:Holiday Inn München Unterhaching\, Inselkammerstraße 7-9\, 82008 München-Unterhaching
DTSTART;TZID=Europe/Brussels:20200330T070000Z
DTEND;TZID=Europe/Brussels:20200401T160000Z
SUMMARY:MobileTechCon 2020 [VERSCHOBEN]
DESCRIPTION:https://www.google.com/maps/search/?api=1&query=Holiday+Inn+München+Unterhaching%2C+Inselkammerstraße+7-9%2C+82008+München-Unterhaching
END:VEVENT
END:VCALENDAR