BEGIN:VCALENDAR
VERSION:2.0
PRODID:-//InStaff und Jobs GmbH
BEGIN:VEVENT
UID:ee3e2a1d2e7b3d0bae8c60270d6cc7d2@instaff.jobs
DTSTAMP:20260425T121004Z
LOCATION:MOC\, Lilienthalallee 40\, 80939 München
DTSTART;TZID=Europe/Brussels:20200204T070000Z
DTEND;TZID=Europe/Brussels:20200206T160000Z
SUMMARY:MUNICH FABRIC START SPRING SUMMER 2020
DESCRIPTION:https://www.google.com/maps/search/?api=1&query=MOC%2C+Lilienthalallee+40%2C+80939+München
END:VEVENT
END:VCALENDAR