BEGIN:VCALENDAR
VERSION:2.0
PRODID:-//InStaff und Jobs GmbH
BEGIN:VEVENT
UID:152b1171e335475a194989b276f3f371@instaff.jobs
DTSTAMP:20260425T122208Z
LOCATION:Messegelände\, Paul-Henri-Spaak-Str\. 6\, 81829 München
DTSTART;TZID=Europe/Brussels:20200321T070000Z
DTEND;TZID=Europe/Brussels:20200322T160000Z
SUMMARY:Stahlgruber Messe 2020 [ABGESAGT]
DESCRIPTION:https://www.google.com/maps/search/?api=1&query=Messegelände%2C+Paul-Henri-Spaak-Str.+6%2C+81829+München
END:VEVENT
END:VCALENDAR