BEGIN:VCALENDAR
VERSION:2.0
PRODID:-//InStaff und Jobs GmbH
BEGIN:VEVENT
UID:6d7f85df9ff4997fcf0b4f8d0ea75d79@instaff.jobs
DTSTAMP:20260425T120924Z
LOCATION:Messe München\, Am Messesee 4\, 81829 München
DTSTART;TZID=Europe/Brussels:20200105T070000Z
DTEND;TZID=Europe/Brussels:20200107T160000Z
SUMMARY:TrendSet Winter 2020
DESCRIPTION:https://www.google.com/maps/search/?api=1&query=Messe+München%2C+Am+Messesee+4%2C+81829+München
END:VEVENT
END:VCALENDAR