BEGIN:VCALENDAR
VERSION:2.0
PRODID:-//InStaff und Jobs GmbH
BEGIN:VEVENT
UID:7b015aca105c44487fbcd6afc15cbb2c@instaff.jobs
DTSTAMP:20260425T111855Z
LOCATION:
DTSTART;TZID=Europe/Brussels:20200116T070000Z
DTEND;TZID=Europe/Brussels:20200116T160000Z
SUMMARY:CHEFS CULINAR 2020 Rostock
DESCRIPTION:
END:VEVENT
BEGIN:VEVENT
UID:10b40beb6249f4045f3d8a8d7d4511f4@instaff.jobs
DTSTAMP:20260425T111855Z
LOCATION:Ostseestadion des F\.C\. Hansa Rostock\, Kopernikusstr\. 17c\, 18057 Rostock
DTSTART;TZID=Europe/Brussels:20200319T070000Z
DTEND;TZID=Europe/Brussels:20200319T160000Z
SUMMARY:Jobmesse Rostock 2020 [VERSCHOBEN]
DESCRIPTION:https://www.google.com/maps/search/?api=1&query=Ostseestadion+des+F.C.+Hansa+Rostock%2C+Kopernikusstr.+17c%2C+18057+Rostock
END:VEVENT
BEGIN:VEVENT
UID:cefc7c56d2786b2a30a6ae39f8cdfff8@instaff.jobs
DTSTAMP:20260425T111855Z
LOCATION:Ostseestadion des F\.C\. Hansa Rostock\, Kopernikusstr\. 17c\, 18057 Rostock
DTSTART;TZID=Europe/Brussels:20200604T070000Z
DTEND;TZID=Europe/Brussels:20200604T160000Z
SUMMARY:Jobmesse Rostock 2020 [ABGESAGT]
DESCRIPTION:https://www.google.com/maps/search/?api=1&query=Ostseestadion+des+F.C.+Hansa+Rostock%2C+Kopernikusstr.+17c%2C+18057+Rostock
END:VEVENT
BEGIN:VEVENT
UID:081ae550b22367871e3e5d65f0cfb20e@instaff.jobs
DTSTAMP:20260425T111855Z
LOCATION:Ostseestadion des F\.C\. Hansa Rostock\, Kopernikusstr\. 17c\, 18057 Rostock
DTSTART;TZID=Europe/Brussels:20200903T070000Z
DTEND;TZID=Europe/Brussels:20200903T160000Z
SUMMARY:Jobmesse Rostock 2020
DESCRIPTION:https://www.google.com/maps/search/?api=1&query=Ostseestadion+des+F.C.+Hansa+Rostock%2C+Kopernikusstr.+17c%2C+18057+Rostock
END:VEVENT
END:VCALENDAR