BEGIN:VCALENDAR
VERSION:2.0
PRODID:-//InStaff und Jobs GmbH
BEGIN:VEVENT
UID:96db3312a4b0a1d8f8e6bded3895fc05@instaff.jobs
DTSTAMP:20260424T041628Z
LOCATION:Europa-Park\, Europa-Park-Straße 2\, 77977 Rust
DTSTART;TZID=Europe/Brussels:20200314T070000Z
DTEND;TZID=Europe/Brussels:20200319T160000Z
SUMMARY:CloudFest 2020 [ABGESAGT]
DESCRIPTION:https://www.google.com/maps/search/?api=1&query=Europa-Park%2C+Europa-Park-Straße+2%2C+77977+Rust
END:VEVENT
END:VCALENDAR