BEGIN:VCALENDAR
VERSION:2.0
PRODID:-//InStaff und Jobs GmbH
BEGIN:VEVENT
UID:43d03ad6f4a7d949db775cee4a5fc869@instaff.jobs
DTSTAMP:20260425T104257Z
LOCATION:Landesmesse Stuttgart\, Messepiazza 1\, 70629 Stuttgart
DTSTART;TZID=Europe/Brussels:20200915T070000Z
DTEND;TZID=Europe/Brussels:20200919T160000Z
SUMMARY:AMB 2020 [ABGESAGT]
DESCRIPTION:https://www.google.com/maps/search/?api=1&query=Landesmesse+Stuttgart%2C+Messepiazza+1%2C+70629+Stuttgart
END:VEVENT
END:VCALENDAR