BEGIN:VCALENDAR
VERSION:2.0
PRODID:-//InStaff und Jobs GmbH
BEGIN:VEVENT
UID:bde2524d8a2d0526d3e79d37e964628f@instaff.jobs
DTSTAMP:20260426T025133Z
LOCATION:Messe Bremen\, Findorffstraße 101\, 28215 Bremen
DTSTART;TZID=Europe/Brussels:20210908T070000Z
DTEND;TZID=Europe/Brussels:20210912T160000Z
SUMMARY:HanseLife 2021
DESCRIPTION:https://www.google.com/maps/search/?api=1&query=Messe+Bremen%2C+Findorffstraße+101%2C+28215+Bremen
END:VEVENT
END:VCALENDAR