BEGIN:VCALENDAR
VERSION:2.0
PRODID:-//InStaff und Jobs GmbH
BEGIN:VEVENT
UID:3817cf46f577f3f7b996e8d14f545f6f@instaff.jobs
DTSTAMP:20260423T012212Z
LOCATION:Messe Düsseldorf\, Stockumer Kirchstraße 61\, 40474 Düsseldorf
DTSTART;TZID=Europe/Brussels:20210112T070000Z
DTEND;TZID=Europe/Brussels:20210114T160000Z
SUMMARY:PSI 2021 [VERSCHOBEN]
DESCRIPTION:https://www.google.com/maps/search/?api=1&query=Messe+Düsseldorf%2C+Stockumer+Kirchstraße+61%2C+40474+Düsseldorf
END:VEVENT
BEGIN:VEVENT
UID:028ad067dcfa0832bd3f4cee6502fd49@instaff.jobs
DTSTAMP:20260423T012212Z
LOCATION:Messe Düsseldorf\, Stockumer Kirchstraße 61\, 40474 Düsseldorf
DTSTART;TZID=Europe/Brussels:20210123T070000Z
DTEND;TZID=Europe/Brussels:20210131T160000Z
SUMMARY:boot Düsseldorf 2021 [VERSCHOBEN]
DESCRIPTION:https://www.google.com/maps/search/?api=1&query=Messe+Düsseldorf%2C+Stockumer+Kirchstraße+61%2C+40474+Düsseldorf
END:VEVENT
BEGIN:VEVENT
UID:746a718fe45e979f206e1adcea1206a8@instaff.jobs
DTSTAMP:20260423T012212Z
LOCATION:Messe Düsseldorf\, Am Staad \(Stockumer Höfe\)\, 40474 Düsseldorf
DTSTART;TZID=Europe/Brussels:20210225T070000Z
DTEND;TZID=Europe/Brussels:20210303T160000Z
SUMMARY:components 2021 [ABGESAGT]
DESCRIPTION:https://www.google.com/maps/search/?api=1&query=Messe+Düsseldorf%2C+Am+Staad+(Stockumer+Höfe)%2C+40474+Düsseldorf
END:VEVENT
BEGIN:VEVENT
UID:308311113161c32eaa593564694b06a4@instaff.jobs
DTSTAMP:20260423T012212Z
LOCATION:Messe Düsseldorf\, Stockumer Kirchstraße 61\, 40474 Düsseldorf
DTSTART;TZID=Europe/Brussels:20210225T070000Z
DTEND;TZID=Europe/Brussels:20210303T160000Z
SUMMARY:Interpack 2021 [ABGESAGT]
DESCRIPTION:https://www.google.com/maps/search/?api=1&query=Messe+Düsseldorf%2C+Stockumer+Kirchstraße+61%2C+40474+Düsseldorf
END:VEVENT
BEGIN:VEVENT
UID:21683644882dd18e2d0d97974030ea63@instaff.jobs
DTSTAMP:20260423T012212Z
LOCATION:Messe Düsseldorf\, Stockumer Kirchstraße 61\, 40474 Düsseldorf
DTSTART;TZID=Europe/Brussels:20210316T070000Z
DTEND;TZID=Europe/Brussels:20210318T160000Z
SUMMARY:EuroCIS 2021 [ABGESAGT]
DESCRIPTION:https://www.google.com/maps/search/?api=1&query=Messe+Düsseldorf%2C+Stockumer+Kirchstraße+61%2C+40474+Düsseldorf
END:VEVENT
BEGIN:VEVENT
UID:e675f20444efda94edce3ad46239224c@instaff.jobs
DTSTAMP:20260423T012212Z
LOCATION:Messe Düsseldorf\, Stockumer Kirchstraße 61\, 40474 Düsseldorf
DTSTART;TZID=Europe/Brussels:20210321T070000Z
DTEND;TZID=Europe/Brussels:20210323T160000Z
SUMMARY:ProWein 2021 [ABGESAGT]
DESCRIPTION:https://www.google.com/maps/search/?api=1&query=Messe+Düsseldorf%2C+Stockumer+Kirchstraße+61%2C+40474+Düsseldorf
END:VEVENT
BEGIN:VEVENT
UID:bcc86f397a7c2d1841675e7e7045a11d@instaff.jobs
DTSTAMP:20260423T012212Z
LOCATION:Messe Düsseldorf\, Stockumer Kirchstraße 61\, 40474 Düsseldorf
DTSTART;TZID=Europe/Brussels:20210323T070000Z
DTEND;TZID=Europe/Brussels:20210326T160000Z
SUMMARY:METAV 2021 [DIGITAL]
DESCRIPTION:https://www.google.com/maps/search/?api=1&query=Messe+Düsseldorf%2C+Stockumer+Kirchstraße+61%2C+40474+Düsseldorf
END:VEVENT
BEGIN:VEVENT
UID:fb13af2f66550e5252146d374bdf076d@instaff.jobs
DTSTAMP:20260423T012212Z
LOCATION:Messe Düsseldorf\, Stockumer Kirchstraße 61\, 40474 Düsseldorf
DTSTART;TZID=Europe/Brussels:20210324T070000Z
DTEND;TZID=Europe/Brussels:20210325T160000Z
SUMMARY:Flotte! Der Branchentreff 2021 [VERSCHOBEN]
DESCRIPTION:https://www.google.com/maps/search/?api=1&query=Messe+Düsseldorf%2C+Stockumer+Kirchstraße+61%2C+40474+Düsseldorf
END:VEVENT
BEGIN:VEVENT
UID:4e60945b9e183a92addfcee220c3dc0c@instaff.jobs
DTSTAMP:20260423T012212Z
LOCATION:AREAL Böhler\, Hansaallee 321\, 40549 Düsseldorf 
DTSTART;TZID=Europe/Brussels:20210327T070000Z
DTEND;TZID=Europe/Brussels:20210328T160000Z
SUMMARY:Veggie World Düsseldorf 2021
DESCRIPTION:https://www.google.com/maps/search/?api=1&query=AREAL+Böhler%2C+Hansaallee+321%2C+40549+Düsseldorf+
END:VEVENT
BEGIN:VEVENT
UID:897a182f5de858b6e81f619df15ab3fa@instaff.jobs
DTSTAMP:20260423T012212Z
LOCATION:Messe Düsseldorf\, Stockumer Kirchstraße 61\, 40474 Düsseldorf
DTSTART;TZID=Europe/Brussels:20210417T070000Z
DTEND;TZID=Europe/Brussels:20210425T160000Z
SUMMARY:boot Düsseldorf 2021 [ABGESAGT]
DESCRIPTION:https://www.google.com/maps/search/?api=1&query=Messe+Düsseldorf%2C+Stockumer+Kirchstraße+61%2C+40474+Düsseldorf
END:VEVENT
BEGIN:VEVENT
UID:7b20b1e5595ed3b2ee13644e4cee9eb5@instaff.jobs
DTSTAMP:20260423T012212Z
LOCATION:Messe Düsseldorf\, Stockumer Kirchstraße 61\, 40474 Düsseldorf
DTSTART;TZID=Europe/Brussels:20210420T070000Z
DTEND;TZID=Europe/Brussels:20210430T160000Z
SUMMARY:drupa 2021 [ABGESAGT]
DESCRIPTION:https://www.google.com/maps/search/?api=1&query=Messe+Düsseldorf%2C+Stockumer+Kirchstraße+61%2C+40474+Düsseldorf
END:VEVENT
BEGIN:VEVENT
UID:2238ae4ab62bcf28e6cb3c88746066b8@instaff.jobs
DTSTAMP:20260423T012212Z
LOCATION:Messe Düsseldorf\, Stockumer Kirchstraße 61\, 40474 Düsseldorf
DTSTART;TZID=Europe/Brussels:20210518T070000Z
DTEND;TZID=Europe/Brussels:20210520T160000Z
SUMMARY:ALUMINIUM 2021 [VERSCHOBEN]
DESCRIPTION:https://www.google.com/maps/search/?api=1&query=Messe+Düsseldorf%2C+Stockumer+Kirchstraße+61%2C+40474+Düsseldorf
END:VEVENT
BEGIN:VEVENT
UID:cab6ea9c859cc181a7dd8fc6ab9c352b@instaff.jobs
DTSTAMP:20260423T012212Z
LOCATION:Messe Düsseldorf\, Stockumer Kirchstraße 61\, 40474 Düsseldorf
DTSTART;TZID=Europe/Brussels:20210518T070000Z
DTEND;TZID=Europe/Brussels:20210520T160000Z
SUMMARY:PSI 2021 [DIGITAL]
DESCRIPTION:https://www.google.com/maps/search/?api=1&query=Messe+Düsseldorf%2C+Stockumer+Kirchstraße+61%2C+40474+Düsseldorf
END:VEVENT
BEGIN:VEVENT
UID:f2116d6095b1389be3d10d79f52bb2d9@instaff.jobs
DTSTAMP:20260423T012212Z
LOCATION:Messe Düsseldorf\, Stockumer Höfe Kirchstraße 61\, 40474 Düsseldorf
DTSTART;TZID=Europe/Brussels:20210528T070000Z
DTEND;TZID=Europe/Brussels:20210530T160000Z
SUMMARY:BEAUTY DÜSSELDORF 2021 [ABGESAGT]
DESCRIPTION:https://www.google.com/maps/search/?api=1&query=Messe+Düsseldorf%2C+Stockumer+Höfe+Kirchstraße+61%2C+40474+Düsseldorf
END:VEVENT
BEGIN:VEVENT
UID:b21a63d88e38e3e8e4a23267242d0b02@instaff.jobs
DTSTAMP:20260423T012212Z
LOCATION:Messe Düsseldorf\, Stockumer Kirchstraße 61\, 40474 Düsseldorf
DTSTART;TZID=Europe/Brussels:20210529T070000Z
DTEND;TZID=Europe/Brussels:20210530T160000Z
SUMMARY:TOP HAIR - DIE MESSE 2021 [ABGSAGT]
DESCRIPTION:https://www.google.com/maps/search/?api=1&query=Messe+Düsseldorf%2C+Stockumer+Kirchstraße+61%2C+40474+Düsseldorf
END:VEVENT
BEGIN:VEVENT
UID:50e3179007c1fc587b71f634cca1a906@instaff.jobs
DTSTAMP:20260423T012212Z
LOCATION:Messe Düsseldorf\, Stockumer Höfe\, 40474 Düsseldorf
DTSTART;TZID=Europe/Brussels:20210609T070000Z
DTEND;TZID=Europe/Brussels:20210610T160000Z
SUMMARY:Flotte! Der Branchentreff 2021 [VERSCHOBEN]
DESCRIPTION:https://www.google.com/maps/search/?api=1&query=Messe+Düsseldorf%2C+Stockumer+Höfe%2C+40474+Düsseldorf
END:VEVENT
BEGIN:VEVENT
UID:a84d0b209388cbefb9ca2d861e1bc9cd@instaff.jobs
DTSTAMP:20260423T012212Z
LOCATION:Messe Düsseldorf\, Stockumer Kirchstraße 61\, 40474 Düsseldorf
DTSTART;TZID=Europe/Brussels:20210615T070000Z
DTEND;TZID=Europe/Brussels:20210618T160000Z
SUMMARY:glasstec 2021 [ABGSAGT]
DESCRIPTION:https://www.google.com/maps/search/?api=1&query=Messe+Düsseldorf%2C+Stockumer+Kirchstraße+61%2C+40474+Düsseldorf
END:VEVENT
BEGIN:VEVENT
UID:9dbee5997b37d30644d3ffd08bbdc43b@instaff.jobs
DTSTAMP:20260423T012212Z
LOCATION:ISS Dome\, DEG-Platz 1\, D-40472 Düsseldorf
DTSTART;TZID=Europe/Brussels:20210821T070000Z
DTEND;TZID=Europe/Brussels:20210822T160000Z
SUMMARY:13 jobmesse düsseldorf 2021
DESCRIPTION:https://www.google.com/maps/search/?api=1&query=ISS+Dome%2C+DEG-Platz+1%2C+D-40472+Düsseldorf
END:VEVENT
BEGIN:VEVENT
UID:a085751eca409f0fd9d09bfa5eafa645@instaff.jobs
DTSTAMP:20260423T012212Z
LOCATION:Messe Düsseldorf\, Stockumer Kirchstraße 61\, 40474 Düsseldorf
DTSTART;TZID=Europe/Brussels:20210827T070000Z
DTEND;TZID=Europe/Brussels:20210905T160000Z
SUMMARY:Caravan Salon 2021
DESCRIPTION:https://www.google.com/maps/search/?api=1&query=Messe+Düsseldorf%2C+Stockumer+Kirchstraße+61%2C+40474+Düsseldorf
END:VEVENT
BEGIN:VEVENT
UID:bd8fdd51f044459cd8bc5ba75deacda6@instaff.jobs
DTSTAMP:20260423T012212Z
LOCATION:Messe Düsseldorf\, Am Staad\, 40474 Düsseldorf
DTSTART;TZID=Europe/Brussels:20210912T070000Z
DTEND;TZID=Europe/Brussels:20210913T160000Z
SUMMARY:CHEFS CULINAR 2021
DESCRIPTION:https://www.google.com/maps/search/?api=1&query=Messe+Düsseldorf%2C+Am+Staad%2C+40474+Düsseldorf
END:VEVENT
BEGIN:VEVENT
UID:0689139beabdef70bc12b88b7a47d49e@instaff.jobs
DTSTAMP:20260423T012212Z
LOCATION:Messe Düsseldorf\, Stockumer Höfe\, 40474 Düsseldorf
DTSTART;TZID=Europe/Brussels:20210915T070000Z
DTEND;TZID=Europe/Brussels:20210916T160000Z
SUMMARY:Flotte! Der Branchentreff 2021
DESCRIPTION:https://www.google.com/maps/search/?api=1&query=Messe+Düsseldorf%2C+Stockumer+Höfe%2C+40474+Düsseldorf
END:VEVENT
BEGIN:VEVENT
UID:6e27604f23231db09de195955738f247@instaff.jobs
DTSTAMP:20260423T012212Z
LOCATION:vzAreal Böhler\/Kaltstahlhallen\, Hansaallee 321\, 40549 Düsseldorf
DTSTART;TZID=Europe/Brussels:20210923T070000Z
DTEND;TZID=Europe/Brussels:20210923T160000Z
SUMMARY:Karrieretag Düsseldorf 2021
DESCRIPTION:https://www.google.com/maps/search/?api=1&query=vzAreal+Böhler/Kaltstahlhallen%2C+Hansaallee+321%2C+40549+Düsseldorf
END:VEVENT
BEGIN:VEVENT
UID:1426ef2d6684bde7f6da80d1d869179d@instaff.jobs
DTSTAMP:20260423T012212Z
LOCATION:Düsseldorf\, Königsallee\, 40212 Düsseldorf
DTSTART;TZID=Europe/Brussels:20210927T070000Z
DTEND;TZID=Europe/Brussels:20210929T160000Z
SUMMARY:Gourmet Festival 2021 [ABGESAGT]
DESCRIPTION:https://www.google.com/maps/search/?api=1&query=Düsseldorf%2C+Königsallee%2C+40212+Düsseldorf
END:VEVENT
BEGIN:VEVENT
UID:733b872a27956b443a9252188556a2d7@instaff.jobs
DTSTAMP:20260423T012212Z
LOCATION:Messe Düsseldorf\, Stockumer Kirchstraße 61\, 40474 Düsseldorf
DTSTART;TZID=Europe/Brussels:20210928T070000Z
DTEND;TZID=Europe/Brussels:20210930T160000Z
SUMMARY:ALUMINIUM 2021 [ABGESAGT]
DESCRIPTION:https://www.google.com/maps/search/?api=1&query=Messe+Düsseldorf%2C+Stockumer+Kirchstraße+61%2C+40474+Düsseldorf
END:VEVENT
BEGIN:VEVENT
UID:cc421dd32c908075cd5c0488317d918c@instaff.jobs
DTSTAMP:20260423T012212Z
LOCATION:Messe Düsseldorf\, Stockumer Kirchstraße 61\, 40474 Düsseldorf
DTSTART;TZID=Europe/Brussels:20211006T070000Z
DTEND;TZID=Europe/Brussels:20211009T160000Z
SUMMARY:Rehacare International 2021
DESCRIPTION:https://www.google.com/maps/search/?api=1&query=Messe+Düsseldorf%2C+Stockumer+Kirchstraße+61%2C+40474+Düsseldorf
END:VEVENT
BEGIN:VEVENT
UID:0de612c67433f4bece3834317202f42b@instaff.jobs
DTSTAMP:20260423T012212Z
LOCATION:Messe Düsseldorf\, Stockumer Kirchstraße 61\, 40474 Düsseldorf
DTSTART;TZID=Europe/Brussels:20211026T070000Z
DTEND;TZID=Europe/Brussels:20211029T160000Z
SUMMARY:A+A 2021
DESCRIPTION:https://www.google.com/maps/search/?api=1&query=Messe+Düsseldorf%2C+Stockumer+Kirchstraße+61%2C+40474+Düsseldorf
END:VEVENT
BEGIN:VEVENT
UID:380c6e0d5923becda4a4678e215b7541@instaff.jobs
DTSTAMP:20260423T012212Z
LOCATION:Messe Düsseldorf\, Stockumer Kirchstraße 61\, 40474 Düsseldorf
DTSTART;TZID=Europe/Brussels:20211115T070000Z
DTEND;TZID=Europe/Brussels:20211118T160000Z
SUMMARY:COMPAMED 2021
DESCRIPTION:https://www.google.com/maps/search/?api=1&query=Messe+Düsseldorf%2C+Stockumer+Kirchstraße+61%2C+40474+Düsseldorf
END:VEVENT
BEGIN:VEVENT
UID:4143b173cc09395cc9aeb6ede4d817ca@instaff.jobs
DTSTAMP:20260423T012212Z
LOCATION:Messeplatz\, Stockumer Kirchstraße 61\, 40474 Düsseldorf
DTSTART;TZID=Europe/Brussels:20211115T070000Z
DTEND;TZID=Europe/Brussels:20211118T160000Z
SUMMARY:MEDICA 2021
DESCRIPTION:https://www.google.com/maps/search/?api=1&query=Messeplatz%2C+Stockumer+Kirchstraße+61%2C+40474+Düsseldorf
END:VEVENT
BEGIN:VEVENT
UID:2f3c092ab6fa0fafbd22fa2a04d3c450@instaff.jobs
DTSTAMP:20260423T012212Z
LOCATION:AREAL Böhler\, Hansaallee 321\, 40549 Düsseldorf 
DTSTART;TZID=Europe/Brussels:20211127T070000Z
DTEND;TZID=Europe/Brussels:20211128T160000Z
SUMMARY:eat&STYLE 2021
DESCRIPTION:https://www.google.com/maps/search/?api=1&query=AREAL+Böhler%2C+Hansaallee+321%2C+40549+Düsseldorf+
END:VEVENT
END:VCALENDAR