BEGIN:VCALENDAR
VERSION:2.0
PRODID:-//InStaff und Jobs GmbH
BEGIN:VEVENT
UID:a734d29b75d66afbc23070e7f5fddb1c@instaff.jobs
DTSTAMP:20260426T012724Z
LOCATION:Messe Frankfurt\, Ludwig-Erhard-Anlage 1\, 60327 Frankfurt am Main
DTSTART;TZID=Europe/Brussels:20210614T070000Z
DTEND;TZID=Europe/Brussels:20210618T160000Z
SUMMARY:ACHEMA 2021 [VERSCHOBEN]
DESCRIPTION:https://www.google.com/maps/search/?api=1&query=Messe+Frankfurt%2C+Ludwig-Erhard-Anlage+1%2C+60327+Frankfurt+am+Main
END:VEVENT
END:VCALENDAR