BEGIN:VCALENDAR
VERSION:2.0
PRODID:-//InStaff und Jobs GmbH
BEGIN:VEVENT
UID:7a5d04f0bf34bbe6a6c3f71f22852100@instaff.jobs
DTSTAMP:20260426T012549Z
LOCATION:Messe Frankfurt\, Ludwig-Erhard-Anlage 1\, 60327 Frankfurt am Main
DTSTART;TZID=Europe/Brussels:20210504T070000Z
DTEND;TZID=Europe/Brussels:20210507T160000Z
SUMMARY:Techtextil 2021 [VERSCHOBEN]
DESCRIPTION:https://www.google.com/maps/search/?api=1&query=Messe+Frankfurt%2C+Ludwig-Erhard-Anlage+1%2C+60327+Frankfurt+am+Main
END:VEVENT
END:VCALENDAR