BEGIN:VCALENDAR
VERSION:2.0
PRODID:-//InStaff und Jobs GmbH
BEGIN:VEVENT
UID:4723ece8ef61dda156a6cb4986ee63d7@instaff.jobs
DTSTAMP:20260426T025158Z
LOCATION:Messe Hamburg\, Karolinenstraße 45\, 20357 Hamburg
DTSTART;TZID=Europe/Brussels:20211023T070000Z
DTEND;TZID=Europe/Brussels:20211024T160000Z
SUMMARY:eat&STYLE 2021
DESCRIPTION:https://www.google.com/maps/search/?api=1&query=Messe+Hamburg%2C+Karolinenstraße+45%2C+20357+Hamburg
END:VEVENT
END:VCALENDAR