BEGIN:VCALENDAR
VERSION:2.0
PRODID:-//InStaff und Jobs GmbH
BEGIN:VEVENT
UID:6c7d83dc380e376150dd8b6b08320185@instaff.jobs
DTSTAMP:20260426T025158Z
LOCATION:Hamburg Messe und Congress\, Messeplatz 1\, 20357 Hamburg
DTSTART;TZID=Europe/Brussels:20210528T070000Z
DTEND;TZID=Europe/Brussels:20210531T160000Z
SUMMARY:TransTech 2021 [ABGESAGT]
DESCRIPTION:https://www.google.com/maps/search/?api=1&query=Hamburg+Messe+und+Congress%2C+Messeplatz+1%2C+20357+Hamburg
END:VEVENT
END:VCALENDAR