BEGIN:VCALENDAR
VERSION:2.0
PRODID:-//InStaff und Jobs GmbH
BEGIN:VEVENT
UID:4730f9ed419f5e48e9b82780444a07d0@instaff.jobs
DTSTAMP:20260426T011121Z
LOCATION:Hamburg Messe und Congress\, Messeplatz 1\, 20357 Hamburg
DTSTART;TZID=Europe/Brussels:20210116T070000Z
DTEND;TZID=Europe/Brussels:20210118T160000Z
SUMMARY:Nordstil Winter 2021 [ABGESAGT]
DESCRIPTION:https://www.google.com/maps/search/?api=1&query=Hamburg+Messe+und+Congress%2C+Messeplatz+1%2C+20357+Hamburg
END:VEVENT
BEGIN:VEVENT
UID:ddcff958e19a73b9419f268fe903268f@instaff.jobs
DTSTAMP:20260426T011121Z
LOCATION:Hamburg Messe\, Messeplatz 1\, 20357 Hamburg
DTSTART;TZID=Europe/Brussels:20210123T070000Z
DTEND;TZID=Europe/Brussels:20210124T160000Z
SUMMARY:Hochzeitstage Hamburg 2021 [VERSCHOBEN]
DESCRIPTION:https://www.google.com/maps/search/?api=1&query=Hamburg+Messe%2C+Messeplatz+1%2C+20357+Hamburg
END:VEVENT
BEGIN:VEVENT
UID:83c1f85601e55d59f7d0643104bd464a@instaff.jobs
DTSTAMP:20260426T011121Z
LOCATION:Hamburg Messe und Congress\, Messeplatz 1\, 20357 Hamburg
DTSTART;TZID=Europe/Brussels:20210202T070000Z
DTEND;TZID=Europe/Brussels:20210205T160000Z
SUMMARY:SMM 2021 [DIGITAL]
DESCRIPTION:https://www.google.com/maps/search/?api=1&query=Hamburg+Messe+und+Congress%2C+Messeplatz+1%2C+20357+Hamburg
END:VEVENT
BEGIN:VEVENT
UID:58c233990590fcc70274055d5573d534@instaff.jobs
DTSTAMP:20260426T011121Z
LOCATION:Hamburg Messe und Congress\, Messeplatz 1\, 20357 Hamburg
DTSTART;TZID=Europe/Brussels:20210312T070000Z
DTEND;TZID=Europe/Brussels:20210316T160000Z
SUMMARY:INTERNORGA 2021 [ABGESAGT]
DESCRIPTION:https://www.google.com/maps/search/?api=1&query=Hamburg+Messe+und+Congress%2C+Messeplatz+1%2C+20357+Hamburg
END:VEVENT
BEGIN:VEVENT
UID:bd950869469b35e790d9c4954611fd08@instaff.jobs
DTSTAMP:20260426T011121Z
LOCATION:CCH - Congress Center Hamburg\, Am Dammtor\, Marseiller Str\.\, 20355 Hamburg
DTSTART;TZID=Europe/Brussels:20210318T070000Z
DTEND;TZID=Europe/Brussels:20210319T160000Z
SUMMARY:Deutscher Bautechniktag 2021 [DIGITAL]
DESCRIPTION:https://www.google.com/maps/search/?api=1&query=CCH+-+Congress+Center+Hamburg%2C+Am+Dammtor%2C+Marseiller+Str.%2C+20355+Hamburg
END:VEVENT
BEGIN:VEVENT
UID:0ae1529c1b9c835b6340e0f9b1a4f70d@instaff.jobs
DTSTAMP:20260426T011121Z
LOCATION:Hamburg Messe\, Messeplatz 1\, 20357 Hamburg
DTSTART;TZID=Europe/Brussels:20210324T070000Z
DTEND;TZID=Europe/Brussels:20210328T160000Z
SUMMARY:FOTOHAVEN HAMBURG 2021 [ABGESAGT]
DESCRIPTION:https://www.google.com/maps/search/?api=1&query=Hamburg+Messe%2C+Messeplatz+1%2C+20357+Hamburg
END:VEVENT
BEGIN:VEVENT
UID:8d3e4e3e426a44441eed408ada42b9f2@instaff.jobs
DTSTAMP:20260426T011121Z
LOCATION:Hamburg Messe\, Messeplatz 1\, 20357 Hamburg
DTSTART;TZID=Europe/Brussels:20210324T070000Z
DTEND;TZID=Europe/Brussels:20210328T160000Z
SUMMARY:REISEN HAMBURG 2021 [ABGESAGT]
DESCRIPTION:https://www.google.com/maps/search/?api=1&query=Hamburg+Messe%2C+Messeplatz+1%2C+20357+Hamburg
END:VEVENT
BEGIN:VEVENT
UID:ea91602e01c72f66fa1798bf2886aa77@instaff.jobs
DTSTAMP:20260426T011121Z
LOCATION:Hamburg Messe und Congress\, Messeplatz 1\, 20357 Hamburg
DTSTART;TZID=Europe/Brussels:20210413T070000Z
DTEND;TZID=Europe/Brussels:20210415T160000Z
SUMMARY:AIX - Aircraft Interiors Expo 2021 [VERSCHOBEN]
DESCRIPTION:https://www.google.com/maps/search/?api=1&query=Hamburg+Messe+und+Congress%2C+Messeplatz+1%2C+20357+Hamburg
END:VEVENT
BEGIN:VEVENT
UID:2d2375d1faeaa6d6dee028d6580d8117@instaff.jobs
DTSTAMP:20260426T011121Z
LOCATION:Hamburg Messe und Congress\, Messeplatz 1\, 20357 Hamburg
DTSTART;TZID=Europe/Brussels:20210413T070000Z
DTEND;TZID=Europe/Brussels:20210415T160000Z
SUMMARY:WTCE - World Travel Catering & Onboard Services EXPO 2021 [VERSCHOBEN]
DESCRIPTION:https://www.google.com/maps/search/?api=1&query=Hamburg+Messe+und+Congress%2C+Messeplatz+1%2C+20357+Hamburg
END:VEVENT
BEGIN:VEVENT
UID:134c640f2941551a874f248e7d86c82c@instaff.jobs
DTSTAMP:20260426T011121Z
LOCATION:Hamburg Messe und Congress\, Messeplatz 1\, 20357 Hamburg
DTSTART;TZID=Europe/Brussels:20210528T070000Z
DTEND;TZID=Europe/Brussels:20210531T160000Z
SUMMARY:TransTech 2021 [ABGESAGT]
DESCRIPTION:https://www.google.com/maps/search/?api=1&query=Hamburg+Messe+und+Congress%2C+Messeplatz+1%2C+20357+Hamburg
END:VEVENT
BEGIN:VEVENT
UID:acfd98755582ca643cd682f4fc38d809@instaff.jobs
DTSTAMP:20260426T011121Z
LOCATION:Hamburg Messe und Congress\, Messeplatz 1\, 20357 Hamburg
DTSTART;TZID=Europe/Brussels:20210724T070000Z
DTEND;TZID=Europe/Brussels:20210726T160000Z
SUMMARY:Nordstil Hamburg 2021
DESCRIPTION:https://www.google.com/maps/search/?api=1&query=Hamburg+Messe+und+Congress%2C+Messeplatz+1%2C+20357+Hamburg
END:VEVENT
BEGIN:VEVENT
UID:7f52b860e0496a9c0cc76da2099e6b79@instaff.jobs
DTSTAMP:20260426T011121Z
LOCATION:Edel-optics\.de Arena\, Kurt-Emmerich-Platz 10-12\, 21109 Hamburg
DTSTART;TZID=Europe/Brussels:20210819T070000Z
DTEND;TZID=Europe/Brussels:20210819T160000Z
SUMMARY:Karrieretag Hamburg 2021
DESCRIPTION:https://www.google.com/maps/search/?api=1&query=Edel-optics.de+Arena%2C+Kurt-Emmerich-Platz+10-12%2C+21109+Hamburg
END:VEVENT
BEGIN:VEVENT
UID:1a33e9a3de5bac24c780b8a9f9802af9@instaff.jobs
DTSTAMP:20260426T011121Z
LOCATION:Hamburg Messe und Congress\, Messeplatz 1\, 20357 Hamburg
DTSTART;TZID=Europe/Brussels:20210908T070000Z
DTEND;TZID=Europe/Brussels:20210910T160000Z
SUMMARY:Seatrade Europe 2021 [ABGESAGT]
DESCRIPTION:https://www.google.com/maps/search/?api=1&query=Hamburg+Messe+und+Congress%2C+Messeplatz+1%2C+20357+Hamburg
END:VEVENT
BEGIN:VEVENT
UID:be9c8ab298124c11f67f8ce9c7b3c381@instaff.jobs
DTSTAMP:20260426T011121Z
LOCATION:Hamburg Messe und Congress\, Messeplatz 1\, 20357 Hamburg
DTSTART;TZID=Europe/Brussels:20210914T070000Z
DTEND;TZID=Europe/Brussels:20210916T160000Z
SUMMARY:AIX - Aircraft Interiors Expo 2021 [DIGITAL]
DESCRIPTION:https://www.google.com/maps/search/?api=1&query=Hamburg+Messe+und+Congress%2C+Messeplatz+1%2C+20357+Hamburg
END:VEVENT
BEGIN:VEVENT
UID:df930f1f82f8fab814d6db4aa63f8e63@instaff.jobs
DTSTAMP:20260426T011121Z
LOCATION:Hamburg Messe und Congress\, Messeplatz 1\, 20357 Hamburg
DTSTART;TZID=Europe/Brussels:20210914T070000Z
DTEND;TZID=Europe/Brussels:20210916T160000Z
SUMMARY:WTCE - World Travel Catering & Onboard Services EXPO 2021 [DIGITAL]
DESCRIPTION:https://www.google.com/maps/search/?api=1&query=Hamburg+Messe+und+Congress%2C+Messeplatz+1%2C+20357+Hamburg
END:VEVENT
BEGIN:VEVENT
UID:940182e4f99a325cc412d348f00a63f5@instaff.jobs
DTSTAMP:20260426T011121Z
LOCATION:Hamburger Reeperbahn\, Reeperbahn\, 20359 Hamburg
DTSTART;TZID=Europe/Brussels:20210922T070000Z
DTEND;TZID=Europe/Brussels:20210925T160000Z
SUMMARY:Reeperbahn Festival 2021
DESCRIPTION:https://www.google.com/maps/search/?api=1&query=Hamburger+Reeperbahn%2C+Reeperbahn%2C+20359+Hamburg
END:VEVENT
BEGIN:VEVENT
UID:99a125f8ddce9f1c81876c36e43e073b@instaff.jobs
DTSTAMP:20260426T011121Z
LOCATION:MesseHalle Hamburg-Schnelsen\, Modering 1a\, 22457 Hamburg
DTSTART;TZID=Europe/Brussels:20211016T070000Z
DTEND;TZID=Europe/Brussels:20211017T160000Z
SUMMARY:Veggie World Hamburg 2021 [VERSCHOBEN]
DESCRIPTION:https://www.google.com/maps/search/?api=1&query=MesseHalle+Hamburg-Schnelsen%2C+Modering+1a%2C+22457+Hamburg
END:VEVENT
BEGIN:VEVENT
UID:aaa533c8baaaf194699b66c76b08af2f@instaff.jobs
DTSTAMP:20260426T011121Z
LOCATION:Messe Hamburg\, Karolinenstraße 45\, 20357 Hamburg
DTSTART;TZID=Europe/Brussels:20211023T070000Z
DTEND;TZID=Europe/Brussels:20211024T160000Z
SUMMARY:eat&STYLE 2021
DESCRIPTION:https://www.google.com/maps/search/?api=1&query=Messe+Hamburg%2C+Karolinenstraße+45%2C+20357+Hamburg
END:VEVENT
BEGIN:VEVENT
UID:39d42d7bfe7b4a7065150de5844bdfc5@instaff.jobs
DTSTAMP:20260426T011121Z
LOCATION:Hamburg Messe und Congress\, Messeplatz 1\, 20357 Hamburg
DTSTART;TZID=Europe/Brussels:20211026T070000Z
DTEND;TZID=Europe/Brussels:20211028T160000Z
SUMMARY:LEat con 2021
DESCRIPTION:https://www.google.com/maps/search/?api=1&query=Hamburg+Messe+und+Congress%2C+Messeplatz+1%2C+20357+Hamburg
END:VEVENT
BEGIN:VEVENT
UID:076126277d61121a5f5b800d875737ba@instaff.jobs
DTSTAMP:20260426T011121Z
LOCATION:CinemaxX Hamburg-Dammtor\, Dammtordamm 1\, 20354 Hamburg
DTSTART;TZID=Europe/Brussels:20211123T070000Z
DTEND;TZID=Europe/Brussels:20211124T160000Z
SUMMARY:d3con 2021
DESCRIPTION:https://www.google.com/maps/search/?api=1&query=CinemaxX+Hamburg-Dammtor%2C+Dammtordamm+1%2C+20354+Hamburg
END:VEVENT
END:VCALENDAR