BEGIN:VCALENDAR
VERSION:2.0
PRODID:-//InStaff und Jobs GmbH
BEGIN:VEVENT
UID:ab17f98e7164a5c79de1a4a7c5bc82e3@instaff.jobs
DTSTAMP:20260421T082742Z
LOCATION:Hannover Messe\, Messegelände\, 30521 Hannover
DTSTART;TZID=Europe/Brussels:20211103T070000Z
DTEND;TZID=Europe/Brussels:20211105T160000Z
SUMMARY:eroFame 2021 [VERSCHOBEN]
DESCRIPTION:https://www.google.com/maps/search/?api=1&query=Hannover+Messe%2C+Messegelände%2C+30521+Hannover
END:VEVENT
END:VCALENDAR