BEGIN:VCALENDAR
VERSION:2.0
PRODID:-//InStaff und Jobs GmbH
BEGIN:VEVENT
UID:72737e70a9facf1bc5df2ebdd6db1298@instaff.jobs
DTSTAMP:20260421T084020Z
LOCATION:Köln Messe\, Messeplatz 1\, 50679 Köln
DTSTART;TZID=Europe/Brussels:20210118T070000Z
DTEND;TZID=Europe/Brussels:20210124T160000Z
SUMMARY:imm cologne 2021 [ABGESAGT]
DESCRIPTION:https://www.google.com/maps/search/?api=1&query=Köln+Messe%2C+Messeplatz+1%2C+50679+Köln
END:VEVENT
BEGIN:VEVENT
UID:639c8b1fb31b44b7515372085e343d46@instaff.jobs
DTSTAMP:20260421T084020Z
LOCATION:Messe Köln\, Messeplatz 1\, 50679 Köln
DTSTART;TZID=Europe/Brussels:20210131T070000Z
DTEND;TZID=Europe/Brussels:20210203T160000Z
SUMMARY:ISM 2021 [ABGESAGT]
DESCRIPTION:https://www.google.com/maps/search/?api=1&query=Messe+Köln%2C+Messeplatz+1%2C+50679+Köln
END:VEVENT
BEGIN:VEVENT
UID:bfb95614307359fe9f7afddef5568ab8@instaff.jobs
DTSTAMP:20260421T084020Z
LOCATION:Messe Köln\, Messeplatz 1\, 50679 Köln
DTSTART;TZID=Europe/Brussels:20210131T070000Z
DTEND;TZID=Europe/Brussels:20210203T160000Z
SUMMARY:ProSweets Cologne 2021 [ABGESAGT]
DESCRIPTION:https://www.google.com/maps/search/?api=1&query=Messe+Köln%2C+Messeplatz+1%2C+50679+Köln
END:VEVENT
BEGIN:VEVENT
UID:e107eed27481a81bb1bf88d93df5e6b5@instaff.jobs
DTSTAMP:20260421T084020Z
LOCATION:Messe Köln\, Messeplatz 1\, 50679 Köln
DTSTART;TZID=Europe/Brussels:20210221T070000Z
DTEND;TZID=Europe/Brussels:20210224T160000Z
SUMMARY:Internationale Eisenwarenmesse 2021 [ABGESAGT]
DESCRIPTION:https://www.google.com/maps/search/?api=1&query=Messe+Köln%2C+Messeplatz+1%2C+50679+Köln
END:VEVENT
BEGIN:VEVENT
UID:59169ec6d02f4b98f8db8ff33a07fbc0@instaff.jobs
DTSTAMP:20260421T084020Z
LOCATION:Köln Messe\, Messeplatz 1\, 50679 Köln
DTSTART;TZID=Europe/Brussels:20210302T070000Z
DTEND;TZID=Europe/Brussels:20210304T160000Z
SUMMARY:IAW 2021 [VERSCHOBEN]
DESCRIPTION:https://www.google.com/maps/search/?api=1&query=Köln+Messe%2C+Messeplatz+1%2C+50679+Köln
END:VEVENT
BEGIN:VEVENT
UID:64d8a16b35864d9d6ac78f2591216213@instaff.jobs
DTSTAMP:20260421T084020Z
LOCATION:Köln Messe\, Messeplatz 1\, 50679 Köln
DTSTART;TZID=Europe/Brussels:20210309T070000Z
DTEND;TZID=Europe/Brussels:20210313T160000Z
SUMMARY:IDS Internationale Dental-Schau 2021 [VERSCHOBEN]
DESCRIPTION:https://www.google.com/maps/search/?api=1&query=Köln+Messe%2C+Messeplatz+1%2C+50679+Köln
END:VEVENT
BEGIN:VEVENT
UID:73439eb506c7d1745744e14043d409cd@instaff.jobs
DTSTAMP:20260421T084020Z
LOCATION:Messe Köln\, Messeplatz 1\, 50679 Köln
DTSTART;TZID=Europe/Brussels:20210326T070000Z
DTEND;TZID=Europe/Brussels:20210328T160000Z
SUMMARY:h+h cologne 2021 [DIGITAL]
DESCRIPTION:https://www.google.com/maps/search/?api=1&query=Messe+Köln%2C+Messeplatz+1%2C+50679+Köln
END:VEVENT
BEGIN:VEVENT
UID:b87e80ae95f9900a6b41e69c705b4c1f@instaff.jobs
DTSTAMP:20260421T084020Z
LOCATION:RheinEnergieSTADION\, Aachener Str\. 999\, 50933 Köln
DTSTART;TZID=Europe/Brussels:20210422T070000Z
DTEND;TZID=Europe/Brussels:20210422T160000Z
SUMMARY:Karrieretag Köln 2021
DESCRIPTION:https://www.google.com/maps/search/?api=1&query=RheinEnergieSTADION%2C+Aachener+Str.+999%2C+50933+Köln
END:VEVENT
BEGIN:VEVENT
UID:674d2d57b3d550c2c24865ab97e1bd92@instaff.jobs
DTSTAMP:20260421T084020Z
LOCATION:Messe Köln\, Messeplatz 1\, 50679 Köln
DTSTART;TZID=Europe/Brussels:20210504T070000Z
DTEND;TZID=Europe/Brussels:20210507T160000Z
SUMMARY:Interzum 2021 [DIGITAL]
DESCRIPTION:https://www.google.com/maps/search/?api=1&query=Messe+Köln%2C+Messeplatz+1%2C+50679+Köln
END:VEVENT
BEGIN:VEVENT
UID:b6e239cb0789c1537f562586622e9b40@instaff.jobs
DTSTAMP:20260421T084020Z
LOCATION:Köln Messe\, Messeplatz 1\, 50679 Köln
DTSTART;TZID=Europe/Brussels:20210530T070000Z
DTEND;TZID=Europe/Brussels:20210601T160000Z
SUMMARY:spoga+gafa 2021 [VERSCHOBEN]
DESCRIPTION:https://www.google.com/maps/search/?api=1&query=Köln+Messe%2C+Messeplatz+1%2C+50679+Köln
END:VEVENT
BEGIN:VEVENT
UID:f549a6b95e9d99bc35de9d847e71c82a@instaff.jobs
DTSTAMP:20260421T084020Z
LOCATION:Messe Köln\, Messeplatz 1\, 50679 Köln
DTSTART;TZID=Europe/Brussels:20210608T070000Z
DTEND;TZID=Europe/Brussels:20210610T160000Z
SUMMARY:ANGA COM 2021 [DIGITAL]
DESCRIPTION:https://www.google.com/maps/search/?api=1&query=Messe+Köln%2C+Messeplatz+1%2C+50679+Köln
END:VEVENT
BEGIN:VEVENT
UID:df6ec86f2f8f9a8498dea1f6a7875746@instaff.jobs
DTSTAMP:20260421T084020Z
LOCATION:Köln Messe\, Messeplatz 1\, 50679 Köln
DTSTART;TZID=Europe/Brussels:20210624T070000Z
DTEND;TZID=Europe/Brussels:20210627T160000Z
SUMMARY:FIBO 2021 [VERSCHOBEN]
DESCRIPTION:https://www.google.com/maps/search/?api=1&query=Köln+Messe%2C+Messeplatz+1%2C+50679+Köln
END:VEVENT
BEGIN:VEVENT
UID:966497e8848a5fa552052f5da2f6f898@instaff.jobs
DTSTAMP:20260421T084020Z
LOCATION:Kölnmesse GmbH\, Messeplatz 1\, 50679 Köln
DTSTART;TZID=Europe/Brussels:20210625T070000Z
DTEND;TZID=Europe/Brussels:20210627T160000Z
SUMMARY:CCXP COLOGNE 2021
DESCRIPTION:https://www.google.com/maps/search/?api=1&query=Kölnmesse+GmbH%2C+Messeplatz+1%2C+50679+Köln
END:VEVENT
BEGIN:VEVENT
UID:22ffff5797b01227c3237cb23747a068@instaff.jobs
DTSTAMP:20260421T084020Z
LOCATION:Tanzbrunnen\, Rheinparkweg 1\, 50679 Köln
DTSTART;TZID=Europe/Brussels:20210724T070000Z
DTEND;TZID=Europe/Brussels:20210725T160000Z
SUMMARY:Amphie Festival 2021 [ABGESAGT]
DESCRIPTION:https://www.google.com/maps/search/?api=1&query=Tanzbrunnen%2C+Rheinparkweg+1%2C+50679+Köln
END:VEVENT
BEGIN:VEVENT
UID:894172dae01318b996f3795842265906@instaff.jobs
DTSTAMP:20260421T084020Z
LOCATION:Köln Messe\, Messeplatz 1\, 50679 Köln
DTSTART;TZID=Europe/Brussels:20210808T070000Z
DTEND;TZID=Europe/Brussels:20210810T160000Z
SUMMARY:spoga+gafa 2021 [ABGESAGT]
DESCRIPTION:https://www.google.com/maps/search/?api=1&query=Köln+Messe%2C+Messeplatz+1%2C+50679+Köln
END:VEVENT
BEGIN:VEVENT
UID:c0925da2d3ea3baf52eda36bc6dc4421@instaff.jobs
DTSTAMP:20260421T084020Z
LOCATION:Köln Messe\, Messeplatz 1\, 50679 Köln
DTSTART;TZID=Europe/Brussels:20210825T070000Z
DTEND;TZID=Europe/Brussels:20210829T160000Z
SUMMARY:gamescom 2021 [DIGITAL]
DESCRIPTION:https://www.google.com/maps/search/?api=1&query=Köln+Messe%2C+Messeplatz+1%2C+50679+Köln
END:VEVENT
BEGIN:VEVENT
UID:5ab807673bf731696c7521af0b6941fe@instaff.jobs
DTSTAMP:20260421T084020Z
LOCATION:XPOST Köln\, Gladbacher Wall 5\, 50670 Köln
DTSTART;TZID=Europe/Brussels:20210826T070000Z
DTEND;TZID=Europe/Brussels:20210826T160000Z
SUMMARY:Karrieretag Köln 2021
DESCRIPTION:https://www.google.com/maps/search/?api=1&query=XPOST+Köln%2C+Gladbacher+Wall+5%2C+50670+Köln
END:VEVENT
BEGIN:VEVENT
UID:416d0811f9bac4ba48e6855c89facea4@instaff.jobs
DTSTAMP:20260421T084020Z
LOCATION:Köln Messe\, Messeplatz 1\, 50679 Köln
DTSTART;TZID=Europe/Brussels:20210907T070000Z
DTEND;TZID=Europe/Brussels:20210908T160000Z
SUMMARY:DMEXCO 2021 [DIGITAL]
DESCRIPTION:https://www.google.com/maps/search/?api=1&query=Köln+Messe%2C+Messeplatz+1%2C+50679+Köln
END:VEVENT
BEGIN:VEVENT
UID:7ab7f7cbed361f424674ba263b21cff3@instaff.jobs
DTSTAMP:20260421T084020Z
LOCATION:Köln Messe\, Messeplatz 1\, 50679 Köln
DTSTART;TZID=Europe/Brussels:20210909T070000Z
DTEND;TZID=Europe/Brussels:20210911T160000Z
SUMMARY:Kind + Jugend 2021
DESCRIPTION:https://www.google.com/maps/search/?api=1&query=Köln+Messe%2C+Messeplatz+1%2C+50679+Köln
END:VEVENT
BEGIN:VEVENT
UID:6f9e6237d91c2a195e1b14d7743ffe0d@instaff.jobs
DTSTAMP:20260421T084020Z
LOCATION:XPOST\, Gladbacher Wall 5\, D-50670 Köln
DTSTART;TZID=Europe/Brussels:20210911T070000Z
DTEND;TZID=Europe/Brussels:20210912T160000Z
SUMMARY:8 jobmesse köln 2021
DESCRIPTION:https://www.google.com/maps/search/?api=1&query=XPOST%2C+Gladbacher+Wall+5%2C+D-50670+Köln
END:VEVENT
BEGIN:VEVENT
UID:4ebc77d9fb35f59d887d347d08910fad@instaff.jobs
DTSTAMP:20260421T084020Z
LOCATION:Köln Messe\, Messeplatz 1\, 50679 Köln
DTSTART;TZID=Europe/Brussels:20210914T070000Z
DTEND;TZID=Europe/Brussels:20210916T160000Z
SUMMARY:IAW 2021
DESCRIPTION:https://www.google.com/maps/search/?api=1&query=Köln+Messe%2C+Messeplatz+1%2C+50679+Köln
END:VEVENT
BEGIN:VEVENT
UID:59ccf75641503d0f7c21498b91a92bb0@instaff.jobs
DTSTAMP:20260421T084020Z
LOCATION:Köln Messe\, Messeplatz 1\, 50679 Köln
DTSTART;TZID=Europe/Brussels:20210922T070000Z
DTEND;TZID=Europe/Brussels:20210925T160000Z
SUMMARY:IDS Internationale Dental-Schau 2021
DESCRIPTION:https://www.google.com/maps/search/?api=1&query=Köln+Messe%2C+Messeplatz+1%2C+50679+Köln
END:VEVENT
BEGIN:VEVENT
UID:7779040145996dfaf8d561102a176aa3@instaff.jobs
DTSTAMP:20260421T084020Z
LOCATION:Köln Messe\, Messeplatz 1\, 50679 Köln
DTSTART;TZID=Europe/Brussels:20211009T070000Z
DTEND;TZID=Europe/Brussels:20211013T160000Z
SUMMARY:Anuga 2021
DESCRIPTION:https://www.google.com/maps/search/?api=1&query=Köln+Messe%2C+Messeplatz+1%2C+50679+Köln
END:VEVENT
BEGIN:VEVENT
UID:1a0da8032c5eeb24076588f8af925f21@instaff.jobs
DTSTAMP:20260421T084020Z
LOCATION:XPOST\, Gladbacher Wall 5\, 50670 Köln
DTSTART;TZID=Europe/Brussels:20211023T070000Z
DTEND;TZID=Europe/Brussels:20211024T160000Z
SUMMARY:Veggie World Köln 2021 [VERSCHOBEN]
DESCRIPTION:https://www.google.com/maps/search/?api=1&query=XPOST%2C+Gladbacher+Wall+5%2C+50670+Köln
END:VEVENT
BEGIN:VEVENT
UID:b155564f3b54d62c464c951af08089c3@instaff.jobs
DTSTAMP:20260421T084020Z
LOCATION:Köln Messe\, Messeplatz 1\, 50679 Köln
DTSTART;TZID=Europe/Brussels:20211026T070000Z
DTEND;TZID=Europe/Brussels:20211029T160000Z
SUMMARY:FSB 2021
DESCRIPTION:https://www.google.com/maps/search/?api=1&query=Köln+Messe%2C+Messeplatz+1%2C+50679+Köln
END:VEVENT
BEGIN:VEVENT
UID:b43d3f875eda83161f305263a4bf58a8@instaff.jobs
DTSTAMP:20260421T084020Z
LOCATION:
DTSTART;TZID=Europe/Brussels:20211027T070000Z
DTEND;TZID=Europe/Brussels:20211028T160000Z
SUMMARY:Härterei Kongress 2021 [DIGITAL]
DESCRIPTION:
END:VEVENT
BEGIN:VEVENT
UID:459e552338d02275b33564db8dfd15e6@instaff.jobs
DTSTAMP:20260421T084020Z
LOCATION:Köln Messe\, Messeplatz 1\, 50679 Köln
DTSTART;TZID=Europe/Brussels:20211104T070000Z
DTEND;TZID=Europe/Brussels:20211107T160000Z
SUMMARY:FIBO 2021 [ABGESAGT]
DESCRIPTION:https://www.google.com/maps/search/?api=1&query=Köln+Messe%2C+Messeplatz+1%2C+50679+Köln
END:VEVENT
BEGIN:VEVENT
UID:54ba7f881910ac6a516d64ec2b568146@instaff.jobs
DTSTAMP:20260421T084020Z
LOCATION:Köln Messe\, Messeplatz 1\, 50679 Köln
DTSTART;TZID=Europe/Brussels:20211114T070000Z
DTEND;TZID=Europe/Brussels:20211116T160000Z
SUMMARY:Zukunft Personal Reconnect 2021
DESCRIPTION:https://www.google.com/maps/search/?api=1&query=Köln+Messe%2C+Messeplatz+1%2C+50679+Köln
END:VEVENT
BEGIN:VEVENT
UID:ee7be062193a36283189b99e84e3b4a7@instaff.jobs
DTSTAMP:20260421T084020Z
LOCATION:Koelnmesse Congress-Centrum\, Ost Deutz-Mülheimer Straße 35\, 50679 Köln
DTSTART;TZID=Europe/Brussels:20211123T070000Z
DTEND;TZID=Europe/Brussels:20211125T160000Z
SUMMARY:PMRExpo 2021
DESCRIPTION:https://www.google.com/maps/search/?api=1&query=Koelnmesse+Congress-Centrum%2C+Ost+Deutz-Mülheimer+Straße+35%2C+50679+Köln
END:VEVENT
END:VCALENDAR