BEGIN:VCALENDAR
VERSION:2.0
PRODID:-//InStaff und Jobs GmbH
BEGIN:VEVENT
UID:40c0096db0aacef10fb52a88543c83d9@instaff.jobs
DTSTAMP:20260423T000355Z
LOCATION:Plenarsaal\, Max-Planck-Straße 1\, 81675 München
DTSTART;TZID=Europe/Brussels:20210908T070000Z
DTEND;TZID=Europe/Brussels:20210911T160000Z
SUMMARY:Deutscher Hautkrebskongress 2021
DESCRIPTION:https://www.google.com/maps/search/?api=1&query=Plenarsaal%2C+Max-Planck-Straße+1%2C+81675+München
END:VEVENT
END:VCALENDAR