BEGIN:VCALENDAR
VERSION:2.0
PRODID:-//InStaff und Jobs GmbH
BEGIN:VEVENT
UID:1ab93edd1dfc392c5fefb7e1128c5d93@instaff.jobs
DTSTAMP:20260422T234332Z
LOCATION:Hilton Hotel Munich Park\, Am Tucherpark 7\, 80538 München
DTSTART;TZID=Europe/Brussels:20211129T070000Z
DTEND;TZID=Europe/Brussels:20211202T160000Z
SUMMARY:DevOps Konferenz 2021
DESCRIPTION:https://www.google.com/maps/search/?api=1&query=Hilton+Hotel+Munich+Park%2C+Am+Tucherpark+7%2C+80538+München
END:VEVENT
END:VCALENDAR