BEGIN:VCALENDAR
VERSION:2.0
PRODID:-//InStaff und Jobs GmbH
BEGIN:VEVENT
UID:194ec6f23e3e4e42887cbcbdf326b068@instaff.jobs
DTSTAMP:20260422T235333Z
LOCATION:Messe München\, Messegelände\, 81823 München
DTSTART;TZID=Europe/Brussels:20210224T070000Z
DTEND;TZID=Europe/Brussels:20210228T160000Z
SUMMARY:f re e 2021 [VERSCHOBEN]
DESCRIPTION:https://www.google.com/maps/search/?api=1&query=Messe+München%2C+Messegelände%2C+81823+München
END:VEVENT
END:VCALENDAR