BEGIN:VCALENDAR
VERSION:2.0
PRODID:-//InStaff und Jobs GmbH
BEGIN:VEVENT
UID:2ae39b8b3c7a51de89dfea02675967f3@instaff.jobs
DTSTAMP:20260422T235430Z
LOCATION:MOC\, Lilienthalallee 40\, 80939 München
DTSTART;TZID=Europe/Brussels:20210916T070000Z
DTEND;TZID=Europe/Brussels:20210917T160000Z
SUMMARY:herCAREER 2021
DESCRIPTION:https://www.google.com/maps/search/?api=1&query=MOC%2C+Lilienthalallee+40%2C+80939+München
END:VEVENT
END:VCALENDAR