BEGIN:VCALENDAR
VERSION:2.0
PRODID:-//InStaff und Jobs GmbH
BEGIN:VEVENT
UID:fd697a76450e9a8695d15639cc488af9@instaff.jobs
DTSTAMP:20260422T235333Z
LOCATION:MOC\, Lilienthalallee 40\, 80939 München
DTSTART;TZID=Europe/Brussels:20210513T070000Z
DTEND;TZID=Europe/Brussels:20210516T160000Z
SUMMARY:HIGH END 2021 [VERSCHOBEN]
DESCRIPTION:https://www.google.com/maps/search/?api=1&query=MOC%2C+Lilienthalallee+40%2C+80939+München
END:VEVENT
END:VCALENDAR