BEGIN:VCALENDAR
VERSION:2.0
PRODID:-//InStaff und Jobs GmbH
BEGIN:VEVENT
UID:22be6f09e301a9d769344db65ceaa47f@instaff.jobs
DTSTAMP:20260422T235225Z
LOCATION:Messe München\, Messegelände\, 81823 München
DTSTART;TZID=Europe/Brussels:20210907T070000Z
DTEND;TZID=Europe/Brussels:20210912T160000Z
SUMMARY:IAA 2021
DESCRIPTION:https://www.google.com/maps/search/?api=1&query=Messe+München%2C+Messegelände%2C+81823+München
END:VEVENT
END:VCALENDAR