BEGIN:VCALENDAR
VERSION:2.0
PRODID:-//InStaff und Jobs GmbH
BEGIN:VEVENT
UID:5a3ff46c31ffaeb61b07ebc583a54a4d@instaff.jobs
DTSTAMP:20260422T235511Z
LOCATION:
DTSTART;TZID=Europe/Brussels:20210907T070000Z
DTEND;TZID=Europe/Brussels:20210912T160000Z
SUMMARY:IAA Nutzfahrzeuge 2021
DESCRIPTION:
END:VEVENT
END:VCALENDAR