BEGIN:VCALENDAR
VERSION:2.0
PRODID:-//InStaff und Jobs GmbH
BEGIN:VEVENT
UID:944570082c570647853f8f0fbde6f19a@instaff.jobs
DTSTAMP:20260422T235757Z
LOCATION:Messe München\, Messegelände\, 81823 München
DTSTART;TZID=Europe/Brussels:20211023T070000Z
DTEND;TZID=Europe/Brussels:20211028T160000Z
SUMMARY:iba 2021 [ABGESAGT]
DESCRIPTION:https://www.google.com/maps/search/?api=1&query=Messe+München%2C+Messegelände%2C+81823+München
END:VEVENT
END:VCALENDAR