BEGIN:VCALENDAR
VERSION:2.0
PRODID:-//InStaff und Jobs GmbH
BEGIN:VEVENT
UID:8fdbc8c59b51c985fbe17233bea92aff@instaff.jobs
DTSTAMP:20260422T235608Z
LOCATION:MOC\, Lilienthalallee 40\, 80939 München
DTSTART;TZID=Europe/Brussels:20210219T070000Z
DTEND;TZID=Europe/Brussels:20210221T160000Z
SUMMARY:IMOT 2021 [ABGESAGT]
DESCRIPTION:https://www.google.com/maps/search/?api=1&query=MOC%2C+Lilienthalallee+40%2C+80939+München
END:VEVENT
END:VCALENDAR