BEGIN:VCALENDAR
VERSION:2.0
PRODID:-//InStaff und Jobs GmbH
BEGIN:VEVENT
UID:d34fd724d3f7fa536b1f1434bdf37150@instaff.jobs
DTSTAMP:20260422T234236Z
LOCATION:Holiday Inn Munich City Center\, Hochstraße 3\, 81669 München
DTSTART;TZID=Europe/Brussels:20211125T070000Z
DTEND;TZID=Europe/Brussels:20211129T160000Z
SUMMARY:International JavaScript Conference 2021
DESCRIPTION:https://www.google.com/maps/search/?api=1&query=Holiday+Inn+Munich+City+Center%2C+Hochstraße+3%2C+81669+München
END:VEVENT
END:VCALENDAR