BEGIN:VCALENDAR
VERSION:2.0
PRODID:-//InStaff und Jobs GmbH
BEGIN:VEVENT
UID:f8a019dc03f0926db581055767b25665@instaff.jobs
DTSTAMP:20260423T000058Z
LOCATION:Messe München\, Messegelände\, 81823 München
DTSTART;TZID=Europe/Brussels:20210721T070000Z
DTEND;TZID=Europe/Brussels:20210723T160000Z
SUMMARY:Intersolar Europe 2021 [VERSCHOBEN]
DESCRIPTION:https://www.google.com/maps/search/?api=1&query=Messe+München%2C+Messegelände%2C+81823+München
END:VEVENT
END:VCALENDAR