BEGIN:VCALENDAR
VERSION:2.0
PRODID:-//InStaff und Jobs GmbH
BEGIN:VEVENT
UID:713cbabd1b7ce910c85431c7883cff29@instaff.jobs
DTSTAMP:20260423T000104Z
LOCATION:Olympia Reitanlage Riem\, Landshamer Str\. 11\, 81929 München
DTSTART;TZID=Europe/Brussels:20210612T070000Z
DTEND;TZID=Europe/Brussels:20210612T160000Z
SUMMARY:Isle of Summer 2021 [VERSCHOBEN]
DESCRIPTION:https://www.google.com/maps/search/?api=1&query=Olympia+Reitanlage+Riem%2C+Landshamer+Str.+11%2C+81929+München
END:VEVENT
END:VCALENDAR