BEGIN:VCALENDAR
VERSION:2.0
PRODID:-//InStaff und Jobs GmbH
BEGIN:VEVENT
UID:388151bb2df08f4907defacb9bf3ed66@instaff.jobs
DTSTAMP:20260422T235408Z
LOCATION:Messe München\, Messegelände\, 81823 München
DTSTART;TZID=Europe/Brussels:20210131T070000Z
DTEND;TZID=Europe/Brussels:20210203T160000Z
SUMMARY:ISPO MUNICH 2021 [DIGITAL]
DESCRIPTION:https://www.google.com/maps/search/?api=1&query=Messe+München%2C+Messegelände%2C+81823+München
END:VEVENT
END:VCALENDAR