BEGIN:VCALENDAR
VERSION:2.0
PRODID:-//InStaff und Jobs GmbH
BEGIN:VEVENT
UID:2a151a34e5e01eb93493663c97b1a0de@instaff.jobs
DTSTAMP:20260423T000953Z
LOCATION:MOC\, Lilienthalallee 40\, 80939 München
DTSTART;TZID=Europe/Brussels:20210126T070000Z
DTEND;TZID=Europe/Brussels:20210128T160000Z
SUMMARY:MUNICH FABRIC START SPRING SUMMER 2021 [VERSCHOBEN]
DESCRIPTION:https://www.google.com/maps/search/?api=1&query=MOC%2C+Lilienthalallee+40%2C+80939+München
END:VEVENT
END:VCALENDAR