BEGIN:VCALENDAR
VERSION:2.0
PRODID:-//InStaff und Jobs GmbH
BEGIN:VEVENT
UID:51d62b5fc06001bc3d140b29d2b2152d@instaff.jobs
DTSTAMP:20260422T235236Z
LOCATION:Messe München\, Am Messesee 4\, 81829 München
DTSTART;TZID=Europe/Brussels:20210220T070000Z
DTEND;TZID=Europe/Brussels:20210222T160000Z
SUMMARY:TrendSet Winter 2021
DESCRIPTION:https://www.google.com/maps/search/?api=1&query=Messe+München%2C+Am+Messesee+4%2C+81829+München
END:VEVENT
END:VCALENDAR