BEGIN:VCALENDAR
VERSION:2.0
PRODID:-//InStaff und Jobs GmbH
BEGIN:VEVENT
UID:0d5dadfbd44adc440ffd8b4a790df09c@instaff.jobs
DTSTAMP:20260422T221709Z
LOCATION:Messe München\, Messegelände\, 81823 München
DTSTART;TZID=Europe/Brussels:20210111T070000Z
DTEND;TZID=Europe/Brussels:20210116T160000Z
SUMMARY:BAU 2021 [DIGITAL]
DESCRIPTION:https://www.google.com/maps/search/?api=1&query=Messe+München%2C+Messegelände%2C+81823+München
END:VEVENT
BEGIN:VEVENT
UID:118009d915f5c073acd1af738778371f@instaff.jobs
DTSTAMP:20260422T221709Z
LOCATION:MOC\, Lilienthalallee 40\, 80939 München
DTSTART;TZID=Europe/Brussels:20210116T070000Z
DTEND;TZID=Europe/Brussels:20210117T160000Z
SUMMARY:Hochzeitstage München 2021 [VERSCHOBEN]
DESCRIPTION:https://www.google.com/maps/search/?api=1&query=MOC%2C+Lilienthalallee+40%2C+80939+München
END:VEVENT
BEGIN:VEVENT
UID:ba04fac6852403567e78920bc938a4cc@instaff.jobs
DTSTAMP:20260422T221709Z
LOCATION:MOC\, Lilienthalallee 40\, 80939 München
DTSTART;TZID=Europe/Brussels:20210126T070000Z
DTEND;TZID=Europe/Brussels:20210128T160000Z
SUMMARY:MUNICH FABRIC START SPRING SUMMER 2021 [VERSCHOBEN]
DESCRIPTION:https://www.google.com/maps/search/?api=1&query=MOC%2C+Lilienthalallee+40%2C+80939+München
END:VEVENT
BEGIN:VEVENT
UID:0e8013b0673a7902bf980cbbbd85b9f5@instaff.jobs
DTSTAMP:20260422T221709Z
LOCATION:Messe München\, Messegelände\, 81823 München
DTSTART;TZID=Europe/Brussels:20210131T070000Z
DTEND;TZID=Europe/Brussels:20210203T160000Z
SUMMARY:ISPO MUNICH 2021 [DIGITAL]
DESCRIPTION:https://www.google.com/maps/search/?api=1&query=Messe+München%2C+Messegelände%2C+81823+München
END:VEVENT
BEGIN:VEVENT
UID:e1c65484458c4991e4a8e014cb9e1272@instaff.jobs
DTSTAMP:20260422T221709Z
LOCATION:Messe München\, Am Messesee 4\, 81829 München
DTSTART;TZID=Europe/Brussels:20210212T070000Z
DTEND;TZID=Europe/Brussels:20210214T160000Z
SUMMARY:TrendSet Winter 2021 [VERSCHOBEN]
DESCRIPTION:https://www.google.com/maps/search/?api=1&query=Messe+München%2C+Am+Messesee+4%2C+81829+München
END:VEVENT
BEGIN:VEVENT
UID:81fe501ad20c9244b7843e84e1554765@instaff.jobs
DTSTAMP:20260422T221709Z
LOCATION:MOC\, Lilienthalallee 40\, 80939 München
DTSTART;TZID=Europe/Brussels:20210219T070000Z
DTEND;TZID=Europe/Brussels:20210221T160000Z
SUMMARY:IMOT 2021 [ABGESAGT]
DESCRIPTION:https://www.google.com/maps/search/?api=1&query=MOC%2C+Lilienthalallee+40%2C+80939+München
END:VEVENT
BEGIN:VEVENT
UID:88994f4672cf200071231852815ae60a@instaff.jobs
DTSTAMP:20260422T221709Z
LOCATION:Messe München\, Messegelände\, 81823 München
DTSTART;TZID=Europe/Brussels:20210219T070000Z
DTEND;TZID=Europe/Brussels:20210222T160000Z
SUMMARY:INHORGENTA 2021 [VERSCHOBEN]
DESCRIPTION:https://www.google.com/maps/search/?api=1&query=Messe+München%2C+Messegelände%2C+81823+München
END:VEVENT
BEGIN:VEVENT
UID:d9da4a56a0c2da89b92230131f002f75@instaff.jobs
DTSTAMP:20260422T221709Z
LOCATION:Messe München\, Am Messesee 4\, 81829 München
DTSTART;TZID=Europe/Brussels:20210220T070000Z
DTEND;TZID=Europe/Brussels:20210222T160000Z
SUMMARY:TrendSet Winter 2021
DESCRIPTION:https://www.google.com/maps/search/?api=1&query=Messe+München%2C+Am+Messesee+4%2C+81829+München
END:VEVENT
BEGIN:VEVENT
UID:6b183e2b319ae029629d5f32648fba31@instaff.jobs
DTSTAMP:20260422T221709Z
LOCATION:Messe München\, Messegelände\, 81823 München
DTSTART;TZID=Europe/Brussels:20210224T070000Z
DTEND;TZID=Europe/Brussels:20210228T160000Z
SUMMARY:f re e 2021 [VERSCHOBEN]
DESCRIPTION:https://www.google.com/maps/search/?api=1&query=Messe+München%2C+Messegelände%2C+81823+München
END:VEVENT
BEGIN:VEVENT
UID:4176c535bf6fb939b2e1893ccb8409d2@instaff.jobs
DTSTAMP:20260422T221709Z
LOCATION:Messe München\, Messegelände\, 81823 München
DTSTART;TZID=Europe/Brussels:20210309T070000Z
DTEND;TZID=Europe/Brussels:20210310T160000Z
SUMMARY:INTERNET WORLD EXPO 2021 [DIGITAL]
DESCRIPTION:https://www.google.com/maps/search/?api=1&query=Messe+München%2C+Messegelände%2C+81823+München
END:VEVENT
BEGIN:VEVENT
UID:5f8a7d12e6e297ce88b42158431e08b5@instaff.jobs
DTSTAMP:20260422T221709Z
LOCATION:Messe München\, Messegelände\, 81823 München
DTSTART;TZID=Europe/Brussels:20210309T070000Z
DTEND;TZID=Europe/Brussels:20210311T160000Z
SUMMARY:ICE Europe 2021 [VERSCHOBEN]
DESCRIPTION:https://www.google.com/maps/search/?api=1&query=Messe+München%2C+Messegelände%2C+81823+München
END:VEVENT
BEGIN:VEVENT
UID:ba16394a0ffdfb3bc064ec98ac704d9e@instaff.jobs
DTSTAMP:20260422T221709Z
LOCATION:Messe München\, Messegelände\, 81823 München
DTSTART;TZID=Europe/Brussels:20210310T070000Z
DTEND;TZID=Europe/Brussels:20210314T160000Z
SUMMARY:Garten München 2021 [ABGESAGT]
DESCRIPTION:https://www.google.com/maps/search/?api=1&query=Messe+München%2C+Messegelände%2C+81823+München
END:VEVENT
BEGIN:VEVENT
UID:b36baa2057af6286c3cf65154e43b37b@instaff.jobs
DTSTAMP:20260422T221709Z
LOCATION:Messe München\, Messegelände\, 81823 München
DTSTART;TZID=Europe/Brussels:20210310T070000Z
DTEND;TZID=Europe/Brussels:20210314T160000Z
SUMMARY:IHM - Internationale Handwerksmesse 2021 [ABGESAGT]
DESCRIPTION:https://www.google.com/maps/search/?api=1&query=Messe+München%2C+Messegelände%2C+81823+München
END:VEVENT
BEGIN:VEVENT
UID:ca4908a007b2d8602cbd25eaa2d64e65@instaff.jobs
DTSTAMP:20260422T221709Z
LOCATION:Messe München\, Messegelände\, 81823 München
DTSTART;TZID=Europe/Brussels:20210421T070000Z
DTEND;TZID=Europe/Brussels:20210425T160000Z
SUMMARY:f re e 2021 [ABGESAGT]
DESCRIPTION:https://www.google.com/maps/search/?api=1&query=Messe+München%2C+Messegelände%2C+81823+München
END:VEVENT
BEGIN:VEVENT
UID:17e39e86d94aa19497ce5e3cbb2218e0@instaff.jobs
DTSTAMP:20260422T221709Z
LOCATION:Messe München\, Messegelände\, 81823 München
DTSTART;TZID=Europe/Brussels:20210504T070000Z
DTEND;TZID=Europe/Brussels:20210507T160000Z
SUMMARY:transport logistic 2021 [DIGITAL]
DESCRIPTION:https://www.google.com/maps/search/?api=1&query=Messe+München%2C+Messegelände%2C+81823+München
END:VEVENT
BEGIN:VEVENT
UID:93958219a70934cc8e56cef55b16c29a@instaff.jobs
DTSTAMP:20260422T221709Z
LOCATION:MOC\, Lilienthalallee 40\, 80939 München
DTSTART;TZID=Europe/Brussels:20210513T070000Z
DTEND;TZID=Europe/Brussels:20210516T160000Z
SUMMARY:HIGH END 2021 [VERSCHOBEN]
DESCRIPTION:https://www.google.com/maps/search/?api=1&query=MOC%2C+Lilienthalallee+40%2C+80939+München
END:VEVENT
BEGIN:VEVENT
UID:bf016b9cf2b1fda0b0f64c7d7d8f8888@instaff.jobs
DTSTAMP:20260422T221709Z
LOCATION:Olympia Reitanlage\, Landshamer Straße 11\, 81929 München
DTSTART;TZID=Europe/Brussels:20210513T070000Z
DTEND;TZID=Europe/Brussels:20210516T160000Z
SUMMARY:Pferd International 2021
DESCRIPTION:https://www.google.com/maps/search/?api=1&query=Olympia+Reitanlage%2C+Landshamer+Straße+11%2C+81929+München
END:VEVENT
BEGIN:VEVENT
UID:63cedbd9ddda35c95a8e46ad3a395fd2@instaff.jobs
DTSTAMP:20260422T221709Z
LOCATION:Messe München\, Messegelände\, 81823 München
DTSTART;TZID=Europe/Brussels:20210518T070000Z
DTEND;TZID=Europe/Brussels:20210521T160000Z
SUMMARY:CERAMITEC 2021 [VERSCHOBEN]
DESCRIPTION:https://www.google.com/maps/search/?api=1&query=Messe+München%2C+Messegelände%2C+81823+München
END:VEVENT
BEGIN:VEVENT
UID:13972a653cb366d70503595f762388c3@instaff.jobs
DTSTAMP:20260422T221709Z
LOCATION:Muffathalle\, Zellstr\. 4\, D-81667 München
DTSTART;TZID=Europe/Brussels:20210610T070000Z
DTEND;TZID=Europe/Brussels:20210610T160000Z
SUMMARY:Online-Karrieretag München 2021
DESCRIPTION:https://www.google.com/maps/search/?api=1&query=Muffathalle%2C+Zellstr.+4%2C+D-81667+München
END:VEVENT
BEGIN:VEVENT
UID:dcb4fcb44966ce0a34e63dd084afc6b6@instaff.jobs
DTSTAMP:20260422T221709Z
LOCATION:Olympia Reitanlage Riem\, Landshamer Str\. 11\, 81929 München
DTSTART;TZID=Europe/Brussels:20210612T070000Z
DTEND;TZID=Europe/Brussels:20210612T160000Z
SUMMARY:Isle of Summer 2021 [VERSCHOBEN]
DESCRIPTION:https://www.google.com/maps/search/?api=1&query=Olympia+Reitanlage+Riem%2C+Landshamer+Str.+11%2C+81929+München
END:VEVENT
BEGIN:VEVENT
UID:96de469fabde8e92a8d5edc3b628637a@instaff.jobs
DTSTAMP:20260422T221709Z
LOCATION:Messe München\, Messegelände\, 81823 München
DTSTART;TZID=Europe/Brussels:20210621T070000Z
DTEND;TZID=Europe/Brussels:20210624T160000Z
SUMMARY:LASER World of Photonics 2021 [DIGITAL]
DESCRIPTION:https://www.google.com/maps/search/?api=1&query=Messe+München%2C+Messegelände%2C+81823+München
END:VEVENT
BEGIN:VEVENT
UID:05aabb6eea6b36211365cbdbada545ae@instaff.jobs
DTSTAMP:20260422T221709Z
LOCATION:Messe München\, Am Messesee 4\, 81829 München
DTSTART;TZID=Europe/Brussels:20210710T070000Z
DTEND;TZID=Europe/Brussels:20210712T160000Z
SUMMARY:TrendSet Sommer München 2021
DESCRIPTION:https://www.google.com/maps/search/?api=1&query=Messe+München%2C+Am+Messesee+4%2C+81829+München
END:VEVENT
BEGIN:VEVENT
UID:3a645d730df600577665b7373253fad2@instaff.jobs
DTSTAMP:20260422T221709Z
LOCATION:Messe München\, Messegelände\, 81823 München
DTSTART;TZID=Europe/Brussels:20210721T070000Z
DTEND;TZID=Europe/Brussels:20210723T160000Z
SUMMARY:Intersolar Europe 2021 [VERSCHOBEN]
DESCRIPTION:https://www.google.com/maps/search/?api=1&query=Messe+München%2C+Messegelände%2C+81823+München
END:VEVENT
BEGIN:VEVENT
UID:0e78463f19313eb7b7ae5f8f263d5629@instaff.jobs
DTSTAMP:20260422T221709Z
LOCATION:Zenith\, Lilienthalallee 29\, 80939 München
DTSTART;TZID=Europe/Brussels:20210805T070000Z
DTEND;TZID=Europe/Brussels:20210805T160000Z
SUMMARY:Karrieretag München 2021
DESCRIPTION:https://www.google.com/maps/search/?api=1&query=Zenith%2C+Lilienthalallee+29%2C+80939+München
END:VEVENT
BEGIN:VEVENT
UID:77c8316dfe4c4aec46871f54d0443eb1@instaff.jobs
DTSTAMP:20260422T221709Z
LOCATION:MOC\, Lilienthalallee 40\, 80939 München
DTSTART;TZID=Europe/Brussels:20210831T070000Z
DTEND;TZID=Europe/Brussels:20210902T160000Z
SUMMARY:MUNICH FABRIC START 2021
DESCRIPTION:https://www.google.com/maps/search/?api=1&query=MOC%2C+Lilienthalallee+40%2C+80939+München
END:VEVENT
BEGIN:VEVENT
UID:c7448f54a3adfbb0f0dc3f01ba9ee6c1@instaff.jobs
DTSTAMP:20260422T221709Z
LOCATION:Messe München\, Messegelände\, 81823 München
DTSTART;TZID=Europe/Brussels:20210907T070000Z
DTEND;TZID=Europe/Brussels:20210912T160000Z
SUMMARY:IAA 2021
DESCRIPTION:https://www.google.com/maps/search/?api=1&query=Messe+München%2C+Messegelände%2C+81823+München
END:VEVENT
BEGIN:VEVENT
UID:9a234dfb1e5da6f7777e26179372838c@instaff.jobs
DTSTAMP:20260422T221709Z
LOCATION:
DTSTART;TZID=Europe/Brussels:20210907T070000Z
DTEND;TZID=Europe/Brussels:20210912T160000Z
SUMMARY:IAA Nutzfahrzeuge 2021
DESCRIPTION:
END:VEVENT
BEGIN:VEVENT
UID:0c767c8625f8521f39bdf7f2a661a742@instaff.jobs
DTSTAMP:20260422T221709Z
LOCATION:Plenarsaal\, Max-Planck-Straße 1\, 81675 München
DTSTART;TZID=Europe/Brussels:20210908T070000Z
DTEND;TZID=Europe/Brussels:20210911T160000Z
SUMMARY:Deutscher Hautkrebskongress 2021
DESCRIPTION:https://www.google.com/maps/search/?api=1&query=Plenarsaal%2C+Max-Planck-Straße+1%2C+81675+München
END:VEVENT
BEGIN:VEVENT
UID:c9c0a2fd29d6e0f01c1828fa446860c8@instaff.jobs
DTSTAMP:20260422T221709Z
LOCATION:MOC\, Lilienthalallee 40\, 80939 München
DTSTART;TZID=Europe/Brussels:20210909T070000Z
DTEND;TZID=Europe/Brussels:20210912T160000Z
SUMMARY:HIGH END 2021 [ABGESAGT]
DESCRIPTION:https://www.google.com/maps/search/?api=1&query=MOC%2C+Lilienthalallee+40%2C+80939+München
END:VEVENT
BEGIN:VEVENT
UID:3d20d89992a28724d32082209be129ca@instaff.jobs
DTSTAMP:20260422T221709Z
LOCATION:Messe München GmbH\, Messegelände\, 81823 München
DTSTART;TZID=Europe/Brussels:20210914T070000Z
DTEND;TZID=Europe/Brussels:20210916T160000Z
SUMMARY:expopharm 2021 [DIGITAL]
DESCRIPTION:https://www.google.com/maps/search/?api=1&query=Messe+München+GmbH%2C+Messegelände%2C+81823+München
END:VEVENT
BEGIN:VEVENT
UID:2adaf6ad75611b94b6e9104f43533e97@instaff.jobs
DTSTAMP:20260422T221709Z
LOCATION:Messe München\, Messegelände\, 81823 München
DTSTART;TZID=Europe/Brussels:20210915T070000Z
DTEND;TZID=Europe/Brussels:20210916T160000Z
SUMMARY:Ceramitec conference 2021
DESCRIPTION:https://www.google.com/maps/search/?api=1&query=Messe+München%2C+Messegelände%2C+81823+München
END:VEVENT
BEGIN:VEVENT
UID:cc4cbb510d78cddc8a0454d779efbecd@instaff.jobs
DTSTAMP:20260422T221709Z
LOCATION:MOC\, Lilienthalallee 40\, 80939 München
DTSTART;TZID=Europe/Brussels:20210916T070000Z
DTEND;TZID=Europe/Brussels:20210917T160000Z
SUMMARY:herCAREER 2021
DESCRIPTION:https://www.google.com/maps/search/?api=1&query=MOC%2C+Lilienthalallee+40%2C+80939+München
END:VEVENT
BEGIN:VEVENT
UID:e8980be2b0f03061ec862caeaf4c4248@instaff.jobs
DTSTAMP:20260422T221709Z
LOCATION:
DTSTART;TZID=Europe/Brussels:20210920T070000Z
DTEND;TZID=Europe/Brussels:20210920T160000Z
SUMMARY:eMove360° Europe 2021
DESCRIPTION:
END:VEVENT
BEGIN:VEVENT
UID:13ee567e3486f1260c1388c1385e2cd0@instaff.jobs
DTSTAMP:20260422T221709Z
LOCATION:Messe München\, Paul-Henri-Spaak-Straße 12\, 81829 München
DTSTART;TZID=Europe/Brussels:20210924T070000Z
DTEND;TZID=Europe/Brussels:20210926T160000Z
SUMMARY:WM Werkstattmesse München 2021
DESCRIPTION:https://www.google.com/maps/search/?api=1&query=Messe+München%2C+Paul-Henri-Spaak-Straße+12%2C+81829+München
END:VEVENT
BEGIN:VEVENT
UID:e882a744b636801f102fdab939d2e931@instaff.jobs
DTSTAMP:20260422T221709Z
LOCATION:Messe München\, Messegelände\, 81823 München
DTSTART;TZID=Europe/Brussels:20211004T070000Z
DTEND;TZID=Europe/Brussels:20211008T160000Z
SUMMARY:drinktec 2021 [VERSCHOBEN]
DESCRIPTION:https://www.google.com/maps/search/?api=1&query=Messe+München%2C+Messegelände%2C+81823+München
END:VEVENT
BEGIN:VEVENT
UID:687f4b0b36d1ae58021f4066e5f9e28c@instaff.jobs
DTSTAMP:20260422T221709Z
LOCATION:Messe München\, Messegelände\, 81823 München
DTSTART;TZID=Europe/Brussels:20211006T070000Z
DTEND;TZID=Europe/Brussels:20211008T160000Z
SUMMARY:Intersolar Europe 2021
DESCRIPTION:https://www.google.com/maps/search/?api=1&query=Messe+München%2C+Messegelände%2C+81823+München
END:VEVENT
BEGIN:VEVENT
UID:0894ff5429ac9e900370cad5b15ee574@instaff.jobs
DTSTAMP:20260422T221709Z
LOCATION:Messe München\, Am Messeturm 4\, 81829 München
DTSTART;TZID=Europe/Brussels:20211011T070000Z
DTEND;TZID=Europe/Brussels:20211013T160000Z
SUMMARY:EXPO REAL 2021
DESCRIPTION:https://www.google.com/maps/search/?api=1&query=Messe+München%2C+Am+Messeturm+4%2C+81829+München
END:VEVENT
BEGIN:VEVENT
UID:b7f1f5458f7e0417f836b2ec36a1e269@instaff.jobs
DTSTAMP:20260422T221709Z
LOCATION:Messe München\, Messegelände\, 81823 München
DTSTART;TZID=Europe/Brussels:20211023T070000Z
DTEND;TZID=Europe/Brussels:20211028T160000Z
SUMMARY:iba 2021 [ABGESAGT]
DESCRIPTION:https://www.google.com/maps/search/?api=1&query=Messe+München%2C+Messegelände%2C+81823+München
END:VEVENT
BEGIN:VEVENT
UID:7d248139c61479754f9a9da212681f5b@instaff.jobs
DTSTAMP:20260422T221709Z
LOCATION:Messe München GmbH\, Paul-Henri-Spaak-Str\. 12\, 81829 München
DTSTART;TZID=Europe/Brussels:20211030T070000Z
DTEND;TZID=Europe/Brussels:20211031T160000Z
SUMMARY:BEAUTY FORUM München 2021
DESCRIPTION:https://www.google.com/maps/search/?api=1&query=Messe+München+GmbH%2C+Paul-Henri-Spaak-Str.+12%2C+81829+München
END:VEVENT
BEGIN:VEVENT
UID:fade0e33a1f416dcf3b8cbeb9696f015@instaff.jobs
DTSTAMP:20260422T221709Z
LOCATION:
DTSTART;TZID=Europe/Brussels:20211105T070000Z
DTEND;TZID=Europe/Brussels:20211105T160000Z
SUMMARY:ITCS Online Tech Konferenz IT - Jobmesse & Digitalfestival
DESCRIPTION:
END:VEVENT
BEGIN:VEVENT
UID:739085e61d193b42ff40a29fb2598b41@instaff.jobs
DTSTAMP:20260422T221709Z
LOCATION:MOC Veranstaltungscenter\, Lilienthalallee 40\, 80939 München
DTSTART;TZID=Europe/Brussels:20211105T070000Z
DTEND;TZID=Europe/Brussels:20211107T160000Z
SUMMARY:Forum Vini 2021
DESCRIPTION:https://www.google.com/maps/search/?api=1&query=MOC+Veranstaltungscenter%2C+Lilienthalallee+40%2C+80939+München
END:VEVENT
BEGIN:VEVENT
UID:edf8dedbe621e46ec15da48ce9ef10f2@instaff.jobs
DTSTAMP:20260422T221709Z
LOCATION:Zenith München\, Lilienthalallee 29\, 80939 München
DTSTART;TZID=Europe/Brussels:20211106T070000Z
DTEND;TZID=Europe/Brussels:20211107T160000Z
SUMMARY:eat&STYLE 2021
DESCRIPTION:https://www.google.com/maps/search/?api=1&query=Zenith+München%2C+Lilienthalallee+29%2C+80939+München
END:VEVENT
BEGIN:VEVENT
UID:71922155a53366d2657d972e074644ff@instaff.jobs
DTSTAMP:20260422T221709Z
LOCATION:The Westin Grand München\, Arabellastraße 6\, 81925 München
DTSTART;TZID=Europe/Brussels:20211108T070000Z
DTEND;TZID=Europe/Brussels:20211112T160000Z
SUMMARY:W-JAX 2021
DESCRIPTION:https://www.google.com/maps/search/?api=1&query=The+Westin+Grand+München%2C+Arabellastraße+6%2C+81925+München
END:VEVENT
BEGIN:VEVENT
UID:4fccef58b095709c51fa69203f35361c@instaff.jobs
DTSTAMP:20260422T221709Z
LOCATION:Messe München\, Messegelände\, 81823 München
DTSTART;TZID=Europe/Brussels:20211109T070000Z
DTEND;TZID=Europe/Brussels:20211112T160000Z
SUMMARY:Inter Airport Europe 2021
DESCRIPTION:https://www.google.com/maps/search/?api=1&query=Messe+München%2C+Messegelände%2C+81823+München
END:VEVENT
BEGIN:VEVENT
UID:b5304677dbd1fd3e5434d6203a31d967@instaff.jobs
DTSTAMP:20260422T221709Z
LOCATION:MTC World of Fashion\, Ingolstädterstr\. 45-47\, 80807 München
DTSTART;TZID=Europe/Brussels:20211113T070000Z
DTEND;TZID=Europe/Brussels:20211114T160000Z
SUMMARY:Veggie World München 2021
DESCRIPTION:https://www.google.com/maps/search/?api=1&query=MTC+World+of+Fashion%2C+Ingolstädterstr.+45-47%2C+80807+München
END:VEVENT
BEGIN:VEVENT
UID:f169da7d22b539a0cf2b2b3049dc87b6@instaff.jobs
DTSTAMP:20260422T221709Z
LOCATION:Messegelände \/ ICM – Internationales Congress Center München\, Am Messesee\, 81829 München
DTSTART;TZID=Europe/Brussels:20211116T070000Z
DTEND;TZID=Europe/Brussels:20211119T160000Z
SUMMARY:productronica 2021
DESCRIPTION:https://www.google.com/maps/search/?api=1&query=Messegelände+/+ICM+–+Internationales+Congress+Center+München%2C+Am+Messesee%2C+81829+München
END:VEVENT
BEGIN:VEVENT
UID:29aaf53a0485dc85c55a2e0f49570c16@instaff.jobs
DTSTAMP:20260422T221709Z
LOCATION:Olympiahalle\, Spiridon-Louis-Ring 21\, 80809 München
DTSTART;TZID=Europe/Brussels:20211118T070000Z
DTEND;TZID=Europe/Brussels:20211121T160000Z
SUMMARY:Munich Indoors 2021 [VERSCHOBEN]
DESCRIPTION:https://www.google.com/maps/search/?api=1&query=Olympiahalle%2C+Spiridon-Louis-Ring+21%2C+80809+München
END:VEVENT
BEGIN:VEVENT
UID:1a3adcbd09d6ec8425dcde5c4b21a8ce@instaff.jobs
DTSTAMP:20260422T221709Z
LOCATION:Holiday Inn Munich City Center\, Hochstraße 3\, 81669 München
DTSTART;TZID=Europe/Brussels:20211125T070000Z
DTEND;TZID=Europe/Brussels:20211129T160000Z
SUMMARY:International JavaScript Conference 2021
DESCRIPTION:https://www.google.com/maps/search/?api=1&query=Holiday+Inn+Munich+City+Center%2C+Hochstraße+3%2C+81669+München
END:VEVENT
BEGIN:VEVENT
UID:b5827cb664963f922907b9c64703d648@instaff.jobs
DTSTAMP:20260422T221709Z
LOCATION:Hilton Hotel Munich Park\, Am Tucherpark 7\, 80538 München
DTSTART;TZID=Europe/Brussels:20211129T070000Z
DTEND;TZID=Europe/Brussels:20211202T160000Z
SUMMARY:DevOps Konferenz 2021
DESCRIPTION:https://www.google.com/maps/search/?api=1&query=Hilton+Hotel+Munich+Park%2C+Am+Tucherpark+7%2C+80538+München
END:VEVENT
BEGIN:VEVENT
UID:9e508de0818e3762ee6acc265b25be9a@instaff.jobs
DTSTAMP:20260422T221709Z
LOCATION:Messe München\, Messegelände\, 81823 München
DTSTART;TZID=Europe/Brussels:20211201T070000Z
DTEND;TZID=Europe/Brussels:20211205T160000Z
SUMMARY:Heim+Handwerk 2021
DESCRIPTION:https://www.google.com/maps/search/?api=1&query=Messe+München%2C+Messegelände%2C+81823+München
END:VEVENT
END:VCALENDAR