BEGIN:VCALENDAR
VERSION:2.0
PRODID:-//InStaff und Jobs GmbH
BEGIN:VEVENT
UID:e3c92fdb02882e81499a3e4011c0fdaf@instaff.jobs
DTSTAMP:20260423T012356Z
LOCATION:Messe Nürnberg\, Messezentrum1\, 90471 Nürnberg
DTSTART;TZID=Europe/Brussels:20210706T070000Z
DTEND;TZID=Europe/Brussels:20210708T160000Z
SUMMARY:ALTENPFLEGE 2021 [DIGITAL]
DESCRIPTION:https://www.google.com/maps/search/?api=1&query=Messe+Nürnberg%2C+Messezentrum1%2C+90471+Nürnberg
END:VEVENT
END:VCALENDAR