BEGIN:VCALENDAR
VERSION:2.0
PRODID:-//InStaff und Jobs GmbH
BEGIN:VEVENT
UID:bf1337aaae08d62dede81c2dd3dd1975@instaff.jobs
DTSTAMP:20260423T012426Z
LOCATION:Messe Nürnberg\, Messezentrum1\, 90471 Nürnberg
DTSTART;TZID=Europe/Brussels:20210413T070000Z
DTEND;TZID=Europe/Brussels:20210415T160000Z
SUMMARY:ALTENPFLEGE 2021 [VERSCHOBEN]
DESCRIPTION:https://www.google.com/maps/search/?api=1&query=Messe+Nürnberg%2C+Messezentrum1%2C+90471+Nürnberg
END:VEVENT
END:VCALENDAR