BEGIN:VCALENDAR
VERSION:2.0
PRODID:-//InStaff und Jobs GmbH
BEGIN:VEVENT
UID:7a6f07b1a10e27f8c695d1259c8658c4@instaff.jobs
DTSTAMP:20260423T012308Z
LOCATION:Nürnberg Convention Center Ost\, Große Str\.\, 90471 Nürnberg
DTSTART;TZID=Europe/Brussels:20210617T070000Z
DTEND;TZID=Europe/Brussels:20210619T160000Z
SUMMARY:DOC 2021 [DIGITAL]
DESCRIPTION:https://www.google.com/maps/search/?api=1&query=Nürnberg+Convention+Center+Ost%2C+Große+Str.%2C+90471+Nürnberg
END:VEVENT
END:VCALENDAR