BEGIN:VCALENDAR
VERSION:2.0
PRODID:-//InStaff und Jobs GmbH
BEGIN:VEVENT
UID:656846951a57fdc404203ee1eb4704af@instaff.jobs
DTSTAMP:20260423T012426Z
LOCATION:Nürnberg Messe\, Messezentrum 1\, 90471 Nürnberg
DTSTART;TZID=Europe/Brussels:20210323T070000Z
DTEND;TZID=Europe/Brussels:20210325T160000Z
SUMMARY:European Coatings Show 2021 [VERSCHOBEN]
DESCRIPTION:https://www.google.com/maps/search/?api=1&query=Nürnberg+Messe%2C+Messezentrum+1%2C+90471+Nürnberg
END:VEVENT
END:VCALENDAR