BEGIN:VCALENDAR
VERSION:2.0
PRODID:-//InStaff und Jobs GmbH
BEGIN:VEVENT
UID:f9250263a05a6782ee24163922fbeed1@instaff.jobs
DTSTAMP:20260423T012307Z
LOCATION:Messe Nürnberg\, Messezentrum 1\, 90471 Nürnberg
DTSTART;TZID=Europe/Brussels:20210601T070000Z
DTEND;TZID=Europe/Brussels:20210604T160000Z
SUMMARY:Interzoo 2021 [DIGITAL]
DESCRIPTION:https://www.google.com/maps/search/?api=1&query=Messe+Nürnberg%2C+Messezentrum+1%2C+90471+Nürnberg
END:VEVENT
END:VCALENDAR