BEGIN:VCALENDAR
VERSION:2.0
PRODID:-//InStaff und Jobs GmbH
BEGIN:VEVENT
UID:21d4296421c376a7cf89955e761192b9@instaff.jobs
DTSTAMP:20260423T012226Z
LOCATION:Messe Nürnberg\, Messezentrum1\, 90471 Nürnberg
DTSTART;TZID=Europe/Brussels:20211012T070000Z
DTEND;TZID=Europe/Brussels:20211014T160000Z
SUMMARY:it-sa 2021
DESCRIPTION:https://www.google.com/maps/search/?api=1&query=Messe+Nürnberg%2C+Messezentrum1%2C+90471+Nürnberg
END:VEVENT
END:VCALENDAR