BEGIN:VCALENDAR
VERSION:2.0
PRODID:-//InStaff und Jobs GmbH
BEGIN:VEVENT
UID:4ce4ba56b95d4f36d1ba406038f3056a@instaff.jobs
DTSTAMP:20260423T012356Z
LOCATION:Messe Nürnberg\, Messezentrum 1\, 90471 Nürnberg
DTSTART;TZID=Europe/Brussels:20210504T070000Z
DTEND;TZID=Europe/Brussels:20210506T160000Z
SUMMARY:PCIM Europe 2021 [DIGITAL]
DESCRIPTION:https://www.google.com/maps/search/?api=1&query=Messe+Nürnberg%2C+Messezentrum+1%2C+90471+Nürnberg
END:VEVENT
END:VCALENDAR