BEGIN:VCALENDAR
VERSION:2.0
PRODID:-//InStaff und Jobs GmbH
BEGIN:VEVENT
UID:1176f46444ffd7681961bb4eb844c676@instaff.jobs
DTSTAMP:20260423T012427Z
LOCATION:Messe Nürnberg\, Messezentrum 1\, 90471 Nürnberg
DTSTART;TZID=Europe/Brussels:20210504T070000Z
DTEND;TZID=Europe/Brussels:20210506T160000Z
SUMMARY:SMTconnect 2021 [ABGESAGT]
DESCRIPTION:https://www.google.com/maps/search/?api=1&query=Messe+Nürnberg%2C+Messezentrum+1%2C+90471+Nürnberg
END:VEVENT
END:VCALENDAR