BEGIN:VCALENDAR
VERSION:2.0
PRODID:-//InStaff und Jobs GmbH
BEGIN:VEVENT
UID:a90d647db6eda03616cf7065ab3a39a9@instaff.jobs
DTSTAMP:20260423T012356Z
LOCATION:Messe Nürnberg\, Messezentrum1\, 90471 Nürnberg
DTSTART;TZID=Europe/Brussels:20211113T070000Z
DTEND;TZID=Europe/Brussels:20211114T160000Z
SUMMARY:Stahlgruber Messe 2021
DESCRIPTION:https://www.google.com/maps/search/?api=1&query=Messe+Nürnberg%2C+Messezentrum1%2C+90471+Nürnberg
END:VEVENT
END:VCALENDAR