BEGIN:VCALENDAR
VERSION:2.0
PRODID:-//InStaff und Jobs GmbH
BEGIN:VEVENT
UID:2d96e8f8ac130e2ed01dc4a761784ecb@instaff.jobs
DTSTAMP:20260423T012357Z
LOCATION:Messe Stuttgart\, Messepiazza 1\, 70629 Stuttgart
DTSTART;TZID=Europe/Brussels:20210115T070000Z
DTEND;TZID=Europe/Brussels:20210117T160000Z
SUMMARY:MEDIZIN 2021 [VERSCHOBEN]
DESCRIPTION:https://www.google.com/maps/search/?api=1&query=Messe+Stuttgart%2C+Messepiazza+1%2C+70629+Stuttgart
END:VEVENT
END:VCALENDAR