BEGIN:VCALENDAR
VERSION:2.0
PRODID:-//InStaff und Jobs GmbH
BEGIN:VEVENT
UID:8dde4e88c778f5c8f9ec032e376c976f@instaff.jobs
DTSTAMP:20260425T214700Z
LOCATION:Talavera Wiesen\, Mainaustraße\, 97082 Würzburg
DTSTART;TZID=Europe/Brussels:20210925T070000Z
DTEND;TZID=Europe/Brussels:20211003T160000Z
SUMMARY:Mainfranken-Messe 2021
DESCRIPTION:https://www.google.com/maps/search/?api=1&query=Talavera+Wiesen%2C+Mainaustraße%2C+97082+Würzburg
END:VEVENT
BEGIN:VEVENT
UID:3d87c4fdcb742674d5392b20e9e7699a@instaff.jobs
DTSTAMP:20260425T214700Z
LOCATION:
DTSTART;TZID=Europe/Brussels:20211008T070000Z
DTEND;TZID=Europe/Brussels:20211009T160000Z
SUMMARY:Beruf Karriere Zukunft - Dein Talent in Deiner Heimat
DESCRIPTION:
END:VEVENT
END:VCALENDAR