BEGIN:VCALENDAR
VERSION:2.0
PRODID:-//InStaff und Jobs GmbH
BEGIN:VEVENT
UID:8293e786fbd8cd3c2179fb802fe71f22@instaff.jobs
DTSTAMP:20260424T140810Z
LOCATION:Messe Berlin\, Hammarskjöldplatz\, Masurenallee 12\, 14057 Berlin
DTSTART;TZID=Europe/Brussels:20221129T070000Z
DTEND;TZID=Europe/Brussels:20221201T160000Z
SUMMARY:connecticum 2022
DESCRIPTION:https://www.google.com/maps/search/?api=1&query=Messe+Berlin%2C+Hammarskjöldplatz%2C+Masurenallee+12%2C+14057+Berlin
END:VEVENT
END:VCALENDAR