BEGIN:VCALENDAR
VERSION:2.0
PRODID:-//InStaff und Jobs GmbH
BEGIN:VEVENT
UID:1520f3f4209a8a76ab38d165254f983d@instaff.jobs
DTSTAMP:20260424T141839Z
LOCATION:Messe Berlin – Hall Hub27 \& 25\, Jafféstrasse 2\, 14055 Berlin
DTSTART;TZID=Europe/Brussels:20221005T070000Z
DTEND;TZID=Europe/Brussels:20221007T160000Z
SUMMARY:eMove360° Europe 2022
DESCRIPTION:https://www.google.com/maps/search/?api=1&query=Messe+Berlin+–+Hall+Hub27+&+25%2C+Jafféstrasse+2%2C+14055+Berlin
END:VEVENT
END:VCALENDAR