BEGIN:VCALENDAR
VERSION:2.0
PRODID:-//InStaff und Jobs GmbH
BEGIN:VEVENT
UID:3910c3a85852743e9cbf71468410431c@instaff.jobs
DTSTAMP:20260424T140724Z
LOCATION:ICC Berlin\, Messedamm 22\, 14055 Berlin
DTSTART;TZID=Europe/Brussels:20220902T070000Z
DTEND;TZID=Europe/Brussels:20220906T160000Z
SUMMARY:IFA 2022
DESCRIPTION:https://www.google.com/maps/search/?api=1&query=ICC+Berlin%2C+Messedamm+22%2C+14055+Berlin
END:VEVENT
END:VCALENDAR