BEGIN:VCALENDAR
VERSION:2.0
PRODID:-//InStaff und Jobs GmbH
BEGIN:VEVENT
UID:17235d3642f697dd4f7a727b3cee2674@instaff.jobs
DTSTAMP:20260424T141618Z
LOCATION:Berlin ExpoCenter City\, Messedamm 22\, 14055 Berlin
DTSTART;TZID=Europe/Brussels:20220309T070000Z
DTEND;TZID=Europe/Brussels:20220313T160000Z
SUMMARY:ITB Berlin 2022 [ABGESAGT]
DESCRIPTION:https://www.google.com/maps/search/?api=1&query=Berlin+ExpoCenter+City%2C+Messedamm+22%2C+14055+Berlin
END:VEVENT
END:VCALENDAR