BEGIN:VCALENDAR
VERSION:2.0
PRODID:-//InStaff und Jobs GmbH
BEGIN:VEVENT
UID:033e61d5c9845adca6221171810150f7@instaff.jobs
DTSTAMP:20260424T140833Z
LOCATION:CityCube Berlin\, Messedamm 26\, 14 055 Berlin
DTSTART;TZID=Europe/Brussels:20220707T070000Z
DTEND;TZID=Europe/Brussels:20220709T160000Z
SUMMARY:PREMIUM 2022
DESCRIPTION:https://www.google.com/maps/search/?api=1&query=CityCube+Berlin%2C+Messedamm+26%2C+14+055+Berlin
END:VEVENT
END:VCALENDAR